BEGIN:VCALENDAR
VERSION:2.0
PRODID:-//Vision Russell - ECPv6.15.18//NONSGML v1.0//EN
CALSCALE:GREGORIAN
METHOD:PUBLISH
X-WR-CALNAME:Vision Russell
X-ORIGINAL-URL:https://visionrussell.org
X-WR-CALDESC:Events for Vision Russell
REFRESH-INTERVAL;VALUE=DURATION:PT1H
X-Robots-Tag:noindex
X-PUBLISHED-TTL:PT1H
BEGIN:VTIMEZONE
TZID:America/Kentucky/Louisville
BEGIN:DAYLIGHT
TZOFFSETFROM:-0500
TZOFFSETTO:-0400
TZNAME:EDT
DTSTART:20250309T070000
END:DAYLIGHT
BEGIN:STANDARD
TZOFFSETFROM:-0400
TZOFFSETTO:-0500
TZNAME:EST
DTSTART:20251102T060000
END:STANDARD
BEGIN:DAYLIGHT
TZOFFSETFROM:-0500
TZOFFSETTO:-0400
TZNAME:EDT
DTSTART:20260308T070000
END:DAYLIGHT
BEGIN:STANDARD
TZOFFSETFROM:-0400
TZOFFSETTO:-0500
TZNAME:EST
DTSTART:20261101T060000
END:STANDARD
BEGIN:DAYLIGHT
TZOFFSETFROM:-0500
TZOFFSETTO:-0400
TZNAME:EDT
DTSTART:20270314T070000
END:DAYLIGHT
BEGIN:STANDARD
TZOFFSETFROM:-0400
TZOFFSETTO:-0500
TZNAME:EST
DTSTART:20271107T060000
END:STANDARD
END:VTIMEZONE
BEGIN:VEVENT
DTSTART;TZID=America/Kentucky/Louisville:20260731T140000
DTEND;TZID=America/Kentucky/Louisville:20260731T160000
DTSTAMP:20260422T182842
CREATED:20170828T193645Z
LAST-MODIFIED:20170828T193645Z
UID:6723-1785506400-1785513600@visionrussell.org
SUMMARY:Russell Dare to Care Food Pantry
DESCRIPTION:Join Plymouth Settlement House in distributing food to those in need. Food pantry hours are 2:00-4:00 p.m. every Friday. Contact Rev. Greg Wright if you are interested in volunteering\, would like more information or to make a donation. 502-536-3434
URL:https://visionrussell.org/event/russell-dare-care-food-pantry/2026-07-31/
LOCATION:Plymouth Settlement House\, 1626 W. Chestnut St.\, Louisville\, KY\, 40203
GEO:38.2511482;-85.7787874
X-APPLE-STRUCTURED-LOCATION;VALUE=URI;X-ADDRESS=Plymouth Settlement House 1626 W. Chestnut St. Louisville KY 40203;X-APPLE-RADIUS=500;X-TITLE=1626 W. Chestnut St.:geo:-85.7787874,38.2511482
END:VEVENT
BEGIN:VEVENT
DTSTART;TZID=America/Kentucky/Louisville:20260724T140000
DTEND;TZID=America/Kentucky/Louisville:20260724T160000
DTSTAMP:20260422T182842
CREATED:20170828T193645Z
LAST-MODIFIED:20170828T193645Z
UID:6721-1784901600-1784908800@visionrussell.org
SUMMARY:Russell Dare to Care Food Pantry
DESCRIPTION:Join Plymouth Settlement House in distributing food to those in need. Food pantry hours are 2:00-4:00 p.m. every Friday. Contact Rev. Greg Wright if you are interested in volunteering\, would like more information or to make a donation. 502-536-3434
URL:https://visionrussell.org/event/russell-dare-care-food-pantry/2026-07-24/
LOCATION:Plymouth Settlement House\, 1626 W. Chestnut St.\, Louisville\, KY\, 40203
GEO:38.2511482;-85.7787874
X-APPLE-STRUCTURED-LOCATION;VALUE=URI;X-ADDRESS=Plymouth Settlement House 1626 W. Chestnut St. Louisville KY 40203;X-APPLE-RADIUS=500;X-TITLE=1626 W. Chestnut St.:geo:-85.7787874,38.2511482
END:VEVENT
BEGIN:VEVENT
DTSTART;TZID=America/Kentucky/Louisville:20260717T140000
DTEND;TZID=America/Kentucky/Louisville:20260717T160000
DTSTAMP:20260422T182842
CREATED:20170828T193645Z
LAST-MODIFIED:20170828T193645Z
UID:6719-1784296800-1784304000@visionrussell.org
SUMMARY:Russell Dare to Care Food Pantry
DESCRIPTION:Join Plymouth Settlement House in distributing food to those in need. Food pantry hours are 2:00-4:00 p.m. every Friday. Contact Rev. Greg Wright if you are interested in volunteering\, would like more information or to make a donation. 502-536-3434
URL:https://visionrussell.org/event/russell-dare-care-food-pantry/2026-07-17/
LOCATION:Plymouth Settlement House\, 1626 W. Chestnut St.\, Louisville\, KY\, 40203
GEO:38.2511482;-85.7787874
X-APPLE-STRUCTURED-LOCATION;VALUE=URI;X-ADDRESS=Plymouth Settlement House 1626 W. Chestnut St. Louisville KY 40203;X-APPLE-RADIUS=500;X-TITLE=1626 W. Chestnut St.:geo:-85.7787874,38.2511482
END:VEVENT
BEGIN:VEVENT
DTSTART;TZID=America/Kentucky/Louisville:20260710T140000
DTEND;TZID=America/Kentucky/Louisville:20260710T160000
DTSTAMP:20260422T182842
CREATED:20170828T193645Z
LAST-MODIFIED:20170828T193645Z
UID:6718-1783692000-1783699200@visionrussell.org
SUMMARY:Russell Dare to Care Food Pantry
DESCRIPTION:Join Plymouth Settlement House in distributing food to those in need. Food pantry hours are 2:00-4:00 p.m. every Friday. Contact Rev. Greg Wright if you are interested in volunteering\, would like more information or to make a donation. 502-536-3434
URL:https://visionrussell.org/event/russell-dare-care-food-pantry/2026-07-10/
LOCATION:Plymouth Settlement House\, 1626 W. Chestnut St.\, Louisville\, KY\, 40203
GEO:38.2511482;-85.7787874
X-APPLE-STRUCTURED-LOCATION;VALUE=URI;X-ADDRESS=Plymouth Settlement House 1626 W. Chestnut St. Louisville KY 40203;X-APPLE-RADIUS=500;X-TITLE=1626 W. Chestnut St.:geo:-85.7787874,38.2511482
END:VEVENT
BEGIN:VEVENT
DTSTART;TZID=America/Kentucky/Louisville:20260703T140000
DTEND;TZID=America/Kentucky/Louisville:20260703T160000
DTSTAMP:20260422T182842
CREATED:20170828T193645Z
LAST-MODIFIED:20170828T193645Z
UID:6717-1783087200-1783094400@visionrussell.org
SUMMARY:Russell Dare to Care Food Pantry
DESCRIPTION:Join Plymouth Settlement House in distributing food to those in need. Food pantry hours are 2:00-4:00 p.m. every Friday. Contact Rev. Greg Wright if you are interested in volunteering\, would like more information or to make a donation. 502-536-3434
URL:https://visionrussell.org/event/russell-dare-care-food-pantry/2026-07-03/
LOCATION:Plymouth Settlement House\, 1626 W. Chestnut St.\, Louisville\, KY\, 40203
GEO:38.2511482;-85.7787874
X-APPLE-STRUCTURED-LOCATION;VALUE=URI;X-ADDRESS=Plymouth Settlement House 1626 W. Chestnut St. Louisville KY 40203;X-APPLE-RADIUS=500;X-TITLE=1626 W. Chestnut St.:geo:-85.7787874,38.2511482
END:VEVENT
BEGIN:VEVENT
DTSTART;TZID=America/Kentucky/Louisville:20260626T140000
DTEND;TZID=America/Kentucky/Louisville:20260626T160000
DTSTAMP:20260422T182842
CREATED:20170828T193645Z
LAST-MODIFIED:20170828T193645Z
UID:6716-1782482400-1782489600@visionrussell.org
SUMMARY:Russell Dare to Care Food Pantry
DESCRIPTION:Join Plymouth Settlement House in distributing food to those in need. Food pantry hours are 2:00-4:00 p.m. every Friday. Contact Rev. Greg Wright if you are interested in volunteering\, would like more information or to make a donation. 502-536-3434
URL:https://visionrussell.org/event/russell-dare-care-food-pantry/2026-06-26/
LOCATION:Plymouth Settlement House\, 1626 W. Chestnut St.\, Louisville\, KY\, 40203
GEO:38.2511482;-85.7787874
X-APPLE-STRUCTURED-LOCATION;VALUE=URI;X-ADDRESS=Plymouth Settlement House 1626 W. Chestnut St. Louisville KY 40203;X-APPLE-RADIUS=500;X-TITLE=1626 W. Chestnut St.:geo:-85.7787874,38.2511482
END:VEVENT
BEGIN:VEVENT
DTSTART;TZID=America/Kentucky/Louisville:20260619T140000
DTEND;TZID=America/Kentucky/Louisville:20260619T160000
DTSTAMP:20260422T182842
CREATED:20170828T193645Z
LAST-MODIFIED:20170828T193645Z
UID:6715-1781877600-1781884800@visionrussell.org
SUMMARY:Russell Dare to Care Food Pantry
DESCRIPTION:Join Plymouth Settlement House in distributing food to those in need. Food pantry hours are 2:00-4:00 p.m. every Friday. Contact Rev. Greg Wright if you are interested in volunteering\, would like more information or to make a donation. 502-536-3434
URL:https://visionrussell.org/event/russell-dare-care-food-pantry/2026-06-19/
LOCATION:Plymouth Settlement House\, 1626 W. Chestnut St.\, Louisville\, KY\, 40203
GEO:38.2511482;-85.7787874
X-APPLE-STRUCTURED-LOCATION;VALUE=URI;X-ADDRESS=Plymouth Settlement House 1626 W. Chestnut St. Louisville KY 40203;X-APPLE-RADIUS=500;X-TITLE=1626 W. Chestnut St.:geo:-85.7787874,38.2511482
END:VEVENT
BEGIN:VEVENT
DTSTART;TZID=America/Kentucky/Louisville:20260612T140000
DTEND;TZID=America/Kentucky/Louisville:20260612T160000
DTSTAMP:20260422T182842
CREATED:20170828T193645Z
LAST-MODIFIED:20170828T193645Z
UID:6714-1781272800-1781280000@visionrussell.org
SUMMARY:Russell Dare to Care Food Pantry
DESCRIPTION:Join Plymouth Settlement House in distributing food to those in need. Food pantry hours are 2:00-4:00 p.m. every Friday. Contact Rev. Greg Wright if you are interested in volunteering\, would like more information or to make a donation. 502-536-3434
URL:https://visionrussell.org/event/russell-dare-care-food-pantry/2026-06-12/
LOCATION:Plymouth Settlement House\, 1626 W. Chestnut St.\, Louisville\, KY\, 40203
GEO:38.2511482;-85.7787874
X-APPLE-STRUCTURED-LOCATION;VALUE=URI;X-ADDRESS=Plymouth Settlement House 1626 W. Chestnut St. Louisville KY 40203;X-APPLE-RADIUS=500;X-TITLE=1626 W. Chestnut St.:geo:-85.7787874,38.2511482
END:VEVENT
BEGIN:VEVENT
DTSTART;TZID=America/Kentucky/Louisville:20260605T140000
DTEND;TZID=America/Kentucky/Louisville:20260605T160000
DTSTAMP:20260422T182842
CREATED:20170828T193645Z
LAST-MODIFIED:20170828T193645Z
UID:6713-1780668000-1780675200@visionrussell.org
SUMMARY:Russell Dare to Care Food Pantry
DESCRIPTION:Join Plymouth Settlement House in distributing food to those in need. Food pantry hours are 2:00-4:00 p.m. every Friday. Contact Rev. Greg Wright if you are interested in volunteering\, would like more information or to make a donation. 502-536-3434
URL:https://visionrussell.org/event/russell-dare-care-food-pantry/2026-06-05/
LOCATION:Plymouth Settlement House\, 1626 W. Chestnut St.\, Louisville\, KY\, 40203
GEO:38.2511482;-85.7787874
X-APPLE-STRUCTURED-LOCATION;VALUE=URI;X-ADDRESS=Plymouth Settlement House 1626 W. Chestnut St. Louisville KY 40203;X-APPLE-RADIUS=500;X-TITLE=1626 W. Chestnut St.:geo:-85.7787874,38.2511482
END:VEVENT
BEGIN:VEVENT
DTSTART;TZID=America/Kentucky/Louisville:20260529T140000
DTEND;TZID=America/Kentucky/Louisville:20260529T160000
DTSTAMP:20260422T182842
CREATED:20170828T193645Z
LAST-MODIFIED:20170828T193645Z
UID:6712-1780063200-1780070400@visionrussell.org
SUMMARY:Russell Dare to Care Food Pantry
DESCRIPTION:Join Plymouth Settlement House in distributing food to those in need. Food pantry hours are 2:00-4:00 p.m. every Friday. Contact Rev. Greg Wright if you are interested in volunteering\, would like more information or to make a donation. 502-536-3434
URL:https://visionrussell.org/event/russell-dare-care-food-pantry/2026-05-29/
LOCATION:Plymouth Settlement House\, 1626 W. Chestnut St.\, Louisville\, KY\, 40203
GEO:38.2511482;-85.7787874
X-APPLE-STRUCTURED-LOCATION;VALUE=URI;X-ADDRESS=Plymouth Settlement House 1626 W. Chestnut St. Louisville KY 40203;X-APPLE-RADIUS=500;X-TITLE=1626 W. Chestnut St.:geo:-85.7787874,38.2511482
END:VEVENT
BEGIN:VEVENT
DTSTART;TZID=America/Kentucky/Louisville:20260522T140000
DTEND;TZID=America/Kentucky/Louisville:20260522T160000
DTSTAMP:20260422T182842
CREATED:20170828T193645Z
LAST-MODIFIED:20170828T193645Z
UID:6711-1779458400-1779465600@visionrussell.org
SUMMARY:Russell Dare to Care Food Pantry
DESCRIPTION:Join Plymouth Settlement House in distributing food to those in need. Food pantry hours are 2:00-4:00 p.m. every Friday. Contact Rev. Greg Wright if you are interested in volunteering\, would like more information or to make a donation. 502-536-3434
URL:https://visionrussell.org/event/russell-dare-care-food-pantry/2026-05-22/
LOCATION:Plymouth Settlement House\, 1626 W. Chestnut St.\, Louisville\, KY\, 40203
GEO:38.2511482;-85.7787874
X-APPLE-STRUCTURED-LOCATION;VALUE=URI;X-ADDRESS=Plymouth Settlement House 1626 W. Chestnut St. Louisville KY 40203;X-APPLE-RADIUS=500;X-TITLE=1626 W. Chestnut St.:geo:-85.7787874,38.2511482
END:VEVENT
BEGIN:VEVENT
DTSTART;TZID=America/Kentucky/Louisville:20260515T140000
DTEND;TZID=America/Kentucky/Louisville:20260515T160000
DTSTAMP:20260422T182842
CREATED:20170828T193645Z
LAST-MODIFIED:20170828T193645Z
UID:6710-1778853600-1778860800@visionrussell.org
SUMMARY:Russell Dare to Care Food Pantry
DESCRIPTION:Join Plymouth Settlement House in distributing food to those in need. Food pantry hours are 2:00-4:00 p.m. every Friday. Contact Rev. Greg Wright if you are interested in volunteering\, would like more information or to make a donation. 502-536-3434
URL:https://visionrussell.org/event/russell-dare-care-food-pantry/2026-05-15/
LOCATION:Plymouth Settlement House\, 1626 W. Chestnut St.\, Louisville\, KY\, 40203
GEO:38.2511482;-85.7787874
X-APPLE-STRUCTURED-LOCATION;VALUE=URI;X-ADDRESS=Plymouth Settlement House 1626 W. Chestnut St. Louisville KY 40203;X-APPLE-RADIUS=500;X-TITLE=1626 W. Chestnut St.:geo:-85.7787874,38.2511482
END:VEVENT
BEGIN:VEVENT
DTSTART;TZID=America/Kentucky/Louisville:20260508T140000
DTEND;TZID=America/Kentucky/Louisville:20260508T160000
DTSTAMP:20260422T182842
CREATED:20170828T193645Z
LAST-MODIFIED:20170828T193645Z
UID:6709-1778248800-1778256000@visionrussell.org
SUMMARY:Russell Dare to Care Food Pantry
DESCRIPTION:Join Plymouth Settlement House in distributing food to those in need. Food pantry hours are 2:00-4:00 p.m. every Friday. Contact Rev. Greg Wright if you are interested in volunteering\, would like more information or to make a donation. 502-536-3434
URL:https://visionrussell.org/event/russell-dare-care-food-pantry/2026-05-08/
LOCATION:Plymouth Settlement House\, 1626 W. Chestnut St.\, Louisville\, KY\, 40203
GEO:38.2511482;-85.7787874
X-APPLE-STRUCTURED-LOCATION;VALUE=URI;X-ADDRESS=Plymouth Settlement House 1626 W. Chestnut St. Louisville KY 40203;X-APPLE-RADIUS=500;X-TITLE=1626 W. Chestnut St.:geo:-85.7787874,38.2511482
END:VEVENT
BEGIN:VEVENT
DTSTART;TZID=America/Kentucky/Louisville:20260501T140000
DTEND;TZID=America/Kentucky/Louisville:20260501T160000
DTSTAMP:20260422T182842
CREATED:20170828T193645Z
LAST-MODIFIED:20170828T193645Z
UID:6708-1777644000-1777651200@visionrussell.org
SUMMARY:Russell Dare to Care Food Pantry
DESCRIPTION:Join Plymouth Settlement House in distributing food to those in need. Food pantry hours are 2:00-4:00 p.m. every Friday. Contact Rev. Greg Wright if you are interested in volunteering\, would like more information or to make a donation. 502-536-3434
URL:https://visionrussell.org/event/russell-dare-care-food-pantry/2026-05-01/
LOCATION:Plymouth Settlement House\, 1626 W. Chestnut St.\, Louisville\, KY\, 40203
GEO:38.2511482;-85.7787874
X-APPLE-STRUCTURED-LOCATION;VALUE=URI;X-ADDRESS=Plymouth Settlement House 1626 W. Chestnut St. Louisville KY 40203;X-APPLE-RADIUS=500;X-TITLE=1626 W. Chestnut St.:geo:-85.7787874,38.2511482
END:VEVENT
BEGIN:VEVENT
DTSTART;TZID=America/Kentucky/Louisville:20260424T140000
DTEND;TZID=America/Kentucky/Louisville:20260424T160000
DTSTAMP:20260422T182842
CREATED:20170828T193645Z
LAST-MODIFIED:20170828T193645Z
UID:6707-1777039200-1777046400@visionrussell.org
SUMMARY:Russell Dare to Care Food Pantry
DESCRIPTION:Join Plymouth Settlement House in distributing food to those in need. Food pantry hours are 2:00-4:00 p.m. every Friday. Contact Rev. Greg Wright if you are interested in volunteering\, would like more information or to make a donation. 502-536-3434
URL:https://visionrussell.org/event/russell-dare-care-food-pantry/2026-04-24/
LOCATION:Plymouth Settlement House\, 1626 W. Chestnut St.\, Louisville\, KY\, 40203
GEO:38.2511482;-85.7787874
X-APPLE-STRUCTURED-LOCATION;VALUE=URI;X-ADDRESS=Plymouth Settlement House 1626 W. Chestnut St. Louisville KY 40203;X-APPLE-RADIUS=500;X-TITLE=1626 W. Chestnut St.:geo:-85.7787874,38.2511482
END:VEVENT
BEGIN:VEVENT
DTSTART;TZID=America/Kentucky/Louisville:20260417T140000
DTEND;TZID=America/Kentucky/Louisville:20260417T160000
DTSTAMP:20260422T182842
CREATED:20170828T193645Z
LAST-MODIFIED:20170828T193645Z
UID:6706-1776434400-1776441600@visionrussell.org
SUMMARY:Russell Dare to Care Food Pantry
DESCRIPTION:Join Plymouth Settlement House in distributing food to those in need. Food pantry hours are 2:00-4:00 p.m. every Friday. Contact Rev. Greg Wright if you are interested in volunteering\, would like more information or to make a donation. 502-536-3434
URL:https://visionrussell.org/event/russell-dare-care-food-pantry/2026-04-17/
LOCATION:Plymouth Settlement House\, 1626 W. Chestnut St.\, Louisville\, KY\, 40203
GEO:38.2511482;-85.7787874
X-APPLE-STRUCTURED-LOCATION;VALUE=URI;X-ADDRESS=Plymouth Settlement House 1626 W. Chestnut St. Louisville KY 40203;X-APPLE-RADIUS=500;X-TITLE=1626 W. Chestnut St.:geo:-85.7787874,38.2511482
END:VEVENT
BEGIN:VEVENT
DTSTART;TZID=America/Kentucky/Louisville:20260410T140000
DTEND;TZID=America/Kentucky/Louisville:20260410T160000
DTSTAMP:20260422T182842
CREATED:20170828T193645Z
LAST-MODIFIED:20170828T193645Z
UID:6705-1775829600-1775836800@visionrussell.org
SUMMARY:Russell Dare to Care Food Pantry
DESCRIPTION:Join Plymouth Settlement House in distributing food to those in need. Food pantry hours are 2:00-4:00 p.m. every Friday. Contact Rev. Greg Wright if you are interested in volunteering\, would like more information or to make a donation. 502-536-3434
URL:https://visionrussell.org/event/russell-dare-care-food-pantry/2026-04-10/
LOCATION:Plymouth Settlement House\, 1626 W. Chestnut St.\, Louisville\, KY\, 40203
GEO:38.2511482;-85.7787874
X-APPLE-STRUCTURED-LOCATION;VALUE=URI;X-ADDRESS=Plymouth Settlement House 1626 W. Chestnut St. Louisville KY 40203;X-APPLE-RADIUS=500;X-TITLE=1626 W. Chestnut St.:geo:-85.7787874,38.2511482
END:VEVENT
BEGIN:VEVENT
DTSTART;TZID=America/Kentucky/Louisville:20260403T140000
DTEND;TZID=America/Kentucky/Louisville:20260403T160000
DTSTAMP:20260422T182842
CREATED:20170828T193645Z
LAST-MODIFIED:20170828T193645Z
UID:6704-1775224800-1775232000@visionrussell.org
SUMMARY:Russell Dare to Care Food Pantry
DESCRIPTION:Join Plymouth Settlement House in distributing food to those in need. Food pantry hours are 2:00-4:00 p.m. every Friday. Contact Rev. Greg Wright if you are interested in volunteering\, would like more information or to make a donation. 502-536-3434
URL:https://visionrussell.org/event/russell-dare-care-food-pantry/2026-04-03/
LOCATION:Plymouth Settlement House\, 1626 W. Chestnut St.\, Louisville\, KY\, 40203
GEO:38.2511482;-85.7787874
X-APPLE-STRUCTURED-LOCATION;VALUE=URI;X-ADDRESS=Plymouth Settlement House 1626 W. Chestnut St. Louisville KY 40203;X-APPLE-RADIUS=500;X-TITLE=1626 W. Chestnut St.:geo:-85.7787874,38.2511482
END:VEVENT
BEGIN:VEVENT
DTSTART;TZID=America/Kentucky/Louisville:20260327T140000
DTEND;TZID=America/Kentucky/Louisville:20260327T160000
DTSTAMP:20260422T182842
CREATED:20170828T193645Z
LAST-MODIFIED:20170828T193645Z
UID:6703-1774620000-1774627200@visionrussell.org
SUMMARY:Russell Dare to Care Food Pantry
DESCRIPTION:Join Plymouth Settlement House in distributing food to those in need. Food pantry hours are 2:00-4:00 p.m. every Friday. Contact Rev. Greg Wright if you are interested in volunteering\, would like more information or to make a donation. 502-536-3434
URL:https://visionrussell.org/event/russell-dare-care-food-pantry/2026-03-27/
LOCATION:Plymouth Settlement House\, 1626 W. Chestnut St.\, Louisville\, KY\, 40203
GEO:38.2511482;-85.7787874
X-APPLE-STRUCTURED-LOCATION;VALUE=URI;X-ADDRESS=Plymouth Settlement House 1626 W. Chestnut St. Louisville KY 40203;X-APPLE-RADIUS=500;X-TITLE=1626 W. Chestnut St.:geo:-85.7787874,38.2511482
END:VEVENT
BEGIN:VEVENT
DTSTART;TZID=America/Kentucky/Louisville:20260320T140000
DTEND;TZID=America/Kentucky/Louisville:20260320T160000
DTSTAMP:20260422T182842
CREATED:20170828T193645Z
LAST-MODIFIED:20170828T193645Z
UID:6702-1774015200-1774022400@visionrussell.org
SUMMARY:Russell Dare to Care Food Pantry
DESCRIPTION:Join Plymouth Settlement House in distributing food to those in need. Food pantry hours are 2:00-4:00 p.m. every Friday. Contact Rev. Greg Wright if you are interested in volunteering\, would like more information or to make a donation. 502-536-3434
URL:https://visionrussell.org/event/russell-dare-care-food-pantry/2026-03-20/
LOCATION:Plymouth Settlement House\, 1626 W. Chestnut St.\, Louisville\, KY\, 40203
GEO:38.2511482;-85.7787874
X-APPLE-STRUCTURED-LOCATION;VALUE=URI;X-ADDRESS=Plymouth Settlement House 1626 W. Chestnut St. Louisville KY 40203;X-APPLE-RADIUS=500;X-TITLE=1626 W. Chestnut St.:geo:-85.7787874,38.2511482
END:VEVENT
BEGIN:VEVENT
DTSTART;TZID=America/Kentucky/Louisville:20260313T140000
DTEND;TZID=America/Kentucky/Louisville:20260313T160000
DTSTAMP:20260422T182842
CREATED:20170828T193645Z
LAST-MODIFIED:20170828T193645Z
UID:6701-1773410400-1773417600@visionrussell.org
SUMMARY:Russell Dare to Care Food Pantry
DESCRIPTION:Join Plymouth Settlement House in distributing food to those in need. Food pantry hours are 2:00-4:00 p.m. every Friday. Contact Rev. Greg Wright if you are interested in volunteering\, would like more information or to make a donation. 502-536-3434
URL:https://visionrussell.org/event/russell-dare-care-food-pantry/2026-03-13/
LOCATION:Plymouth Settlement House\, 1626 W. Chestnut St.\, Louisville\, KY\, 40203
GEO:38.2511482;-85.7787874
X-APPLE-STRUCTURED-LOCATION;VALUE=URI;X-ADDRESS=Plymouth Settlement House 1626 W. Chestnut St. Louisville KY 40203;X-APPLE-RADIUS=500;X-TITLE=1626 W. Chestnut St.:geo:-85.7787874,38.2511482
END:VEVENT
BEGIN:VEVENT
DTSTART;TZID=America/Kentucky/Louisville:20260306T140000
DTEND;TZID=America/Kentucky/Louisville:20260306T160000
DTSTAMP:20260422T182842
CREATED:20170828T193645Z
LAST-MODIFIED:20170828T193645Z
UID:6700-1772805600-1772812800@visionrussell.org
SUMMARY:Russell Dare to Care Food Pantry
DESCRIPTION:Join Plymouth Settlement House in distributing food to those in need. Food pantry hours are 2:00-4:00 p.m. every Friday. Contact Rev. Greg Wright if you are interested in volunteering\, would like more information or to make a donation. 502-536-3434
URL:https://visionrussell.org/event/russell-dare-care-food-pantry/2026-03-06/
LOCATION:Plymouth Settlement House\, 1626 W. Chestnut St.\, Louisville\, KY\, 40203
GEO:38.2511482;-85.7787874
X-APPLE-STRUCTURED-LOCATION;VALUE=URI;X-ADDRESS=Plymouth Settlement House 1626 W. Chestnut St. Louisville KY 40203;X-APPLE-RADIUS=500;X-TITLE=1626 W. Chestnut St.:geo:-85.7787874,38.2511482
END:VEVENT
BEGIN:VEVENT
DTSTART;TZID=America/Kentucky/Louisville:20260227T140000
DTEND;TZID=America/Kentucky/Louisville:20260227T160000
DTSTAMP:20260422T182842
CREATED:20170828T193645Z
LAST-MODIFIED:20170828T193645Z
UID:6699-1772200800-1772208000@visionrussell.org
SUMMARY:Russell Dare to Care Food Pantry
DESCRIPTION:Join Plymouth Settlement House in distributing food to those in need. Food pantry hours are 2:00-4:00 p.m. every Friday. Contact Rev. Greg Wright if you are interested in volunteering\, would like more information or to make a donation. 502-536-3434
URL:https://visionrussell.org/event/russell-dare-care-food-pantry/2026-02-27/
LOCATION:Plymouth Settlement House\, 1626 W. Chestnut St.\, Louisville\, KY\, 40203
GEO:38.2511482;-85.7787874
X-APPLE-STRUCTURED-LOCATION;VALUE=URI;X-ADDRESS=Plymouth Settlement House 1626 W. Chestnut St. Louisville KY 40203;X-APPLE-RADIUS=500;X-TITLE=1626 W. Chestnut St.:geo:-85.7787874,38.2511482
END:VEVENT
BEGIN:VEVENT
DTSTART;TZID=America/Kentucky/Louisville:20260220T140000
DTEND;TZID=America/Kentucky/Louisville:20260220T160000
DTSTAMP:20260422T182842
CREATED:20170828T193645Z
LAST-MODIFIED:20170828T193645Z
UID:6698-1771596000-1771603200@visionrussell.org
SUMMARY:Russell Dare to Care Food Pantry
DESCRIPTION:Join Plymouth Settlement House in distributing food to those in need. Food pantry hours are 2:00-4:00 p.m. every Friday. Contact Rev. Greg Wright if you are interested in volunteering\, would like more information or to make a donation. 502-536-3434
URL:https://visionrussell.org/event/russell-dare-care-food-pantry/2026-02-20/
LOCATION:Plymouth Settlement House\, 1626 W. Chestnut St.\, Louisville\, KY\, 40203
GEO:38.2511482;-85.7787874
X-APPLE-STRUCTURED-LOCATION;VALUE=URI;X-ADDRESS=Plymouth Settlement House 1626 W. Chestnut St. Louisville KY 40203;X-APPLE-RADIUS=500;X-TITLE=1626 W. Chestnut St.:geo:-85.7787874,38.2511482
END:VEVENT
BEGIN:VEVENT
DTSTART;TZID=America/Kentucky/Louisville:20260213T140000
DTEND;TZID=America/Kentucky/Louisville:20260213T160000
DTSTAMP:20260422T182842
CREATED:20170828T193645Z
LAST-MODIFIED:20170828T193645Z
UID:6697-1770991200-1770998400@visionrussell.org
SUMMARY:Russell Dare to Care Food Pantry
DESCRIPTION:Join Plymouth Settlement House in distributing food to those in need. Food pantry hours are 2:00-4:00 p.m. every Friday. Contact Rev. Greg Wright if you are interested in volunteering\, would like more information or to make a donation. 502-536-3434
URL:https://visionrussell.org/event/russell-dare-care-food-pantry/2026-02-13/
LOCATION:Plymouth Settlement House\, 1626 W. Chestnut St.\, Louisville\, KY\, 40203
GEO:38.2511482;-85.7787874
X-APPLE-STRUCTURED-LOCATION;VALUE=URI;X-ADDRESS=Plymouth Settlement House 1626 W. Chestnut St. Louisville KY 40203;X-APPLE-RADIUS=500;X-TITLE=1626 W. Chestnut St.:geo:-85.7787874,38.2511482
END:VEVENT
BEGIN:VEVENT
DTSTART;TZID=America/Kentucky/Louisville:20260206T140000
DTEND;TZID=America/Kentucky/Louisville:20260206T160000
DTSTAMP:20260422T182842
CREATED:20170828T193645Z
LAST-MODIFIED:20170828T193645Z
UID:6696-1770386400-1770393600@visionrussell.org
SUMMARY:Russell Dare to Care Food Pantry
DESCRIPTION:Join Plymouth Settlement House in distributing food to those in need. Food pantry hours are 2:00-4:00 p.m. every Friday. Contact Rev. Greg Wright if you are interested in volunteering\, would like more information or to make a donation. 502-536-3434
URL:https://visionrussell.org/event/russell-dare-care-food-pantry/2026-02-06/
LOCATION:Plymouth Settlement House\, 1626 W. Chestnut St.\, Louisville\, KY\, 40203
GEO:38.2511482;-85.7787874
X-APPLE-STRUCTURED-LOCATION;VALUE=URI;X-ADDRESS=Plymouth Settlement House 1626 W. Chestnut St. Louisville KY 40203;X-APPLE-RADIUS=500;X-TITLE=1626 W. Chestnut St.:geo:-85.7787874,38.2511482
END:VEVENT
BEGIN:VEVENT
DTSTART;TZID=America/Kentucky/Louisville:20260130T140000
DTEND;TZID=America/Kentucky/Louisville:20260130T160000
DTSTAMP:20260422T182842
CREATED:20170828T193645Z
LAST-MODIFIED:20170828T193645Z
UID:6695-1769781600-1769788800@visionrussell.org
SUMMARY:Russell Dare to Care Food Pantry
DESCRIPTION:Join Plymouth Settlement House in distributing food to those in need. Food pantry hours are 2:00-4:00 p.m. every Friday. Contact Rev. Greg Wright if you are interested in volunteering\, would like more information or to make a donation. 502-536-3434
URL:https://visionrussell.org/event/russell-dare-care-food-pantry/2026-01-30/
LOCATION:Plymouth Settlement House\, 1626 W. Chestnut St.\, Louisville\, KY\, 40203
GEO:38.2511482;-85.7787874
X-APPLE-STRUCTURED-LOCATION;VALUE=URI;X-ADDRESS=Plymouth Settlement House 1626 W. Chestnut St. Louisville KY 40203;X-APPLE-RADIUS=500;X-TITLE=1626 W. Chestnut St.:geo:-85.7787874,38.2511482
END:VEVENT
BEGIN:VEVENT
DTSTART;TZID=America/Kentucky/Louisville:20260123T140000
DTEND;TZID=America/Kentucky/Louisville:20260123T160000
DTSTAMP:20260422T182842
CREATED:20170828T193645Z
LAST-MODIFIED:20170828T193645Z
UID:6694-1769176800-1769184000@visionrussell.org
SUMMARY:Russell Dare to Care Food Pantry
DESCRIPTION:Join Plymouth Settlement House in distributing food to those in need. Food pantry hours are 2:00-4:00 p.m. every Friday. Contact Rev. Greg Wright if you are interested in volunteering\, would like more information or to make a donation. 502-536-3434
URL:https://visionrussell.org/event/russell-dare-care-food-pantry/2026-01-23/
LOCATION:Plymouth Settlement House\, 1626 W. Chestnut St.\, Louisville\, KY\, 40203
GEO:38.2511482;-85.7787874
X-APPLE-STRUCTURED-LOCATION;VALUE=URI;X-ADDRESS=Plymouth Settlement House 1626 W. Chestnut St. Louisville KY 40203;X-APPLE-RADIUS=500;X-TITLE=1626 W. Chestnut St.:geo:-85.7787874,38.2511482
END:VEVENT
BEGIN:VEVENT
DTSTART;TZID=America/Kentucky/Louisville:20260116T140000
DTEND;TZID=America/Kentucky/Louisville:20260116T160000
DTSTAMP:20260422T182842
CREATED:20170828T193645Z
LAST-MODIFIED:20170828T193645Z
UID:6693-1768572000-1768579200@visionrussell.org
SUMMARY:Russell Dare to Care Food Pantry
DESCRIPTION:Join Plymouth Settlement House in distributing food to those in need. Food pantry hours are 2:00-4:00 p.m. every Friday. Contact Rev. Greg Wright if you are interested in volunteering\, would like more information or to make a donation. 502-536-3434
URL:https://visionrussell.org/event/russell-dare-care-food-pantry/2026-01-16/
LOCATION:Plymouth Settlement House\, 1626 W. Chestnut St.\, Louisville\, KY\, 40203
GEO:38.2511482;-85.7787874
X-APPLE-STRUCTURED-LOCATION;VALUE=URI;X-ADDRESS=Plymouth Settlement House 1626 W. Chestnut St. Louisville KY 40203;X-APPLE-RADIUS=500;X-TITLE=1626 W. Chestnut St.:geo:-85.7787874,38.2511482
END:VEVENT
BEGIN:VEVENT
DTSTART;TZID=America/Kentucky/Louisville:20260109T140000
DTEND;TZID=America/Kentucky/Louisville:20260109T160000
DTSTAMP:20260422T182842
CREATED:20170828T193645Z
LAST-MODIFIED:20170828T193645Z
UID:6692-1767967200-1767974400@visionrussell.org
SUMMARY:Russell Dare to Care Food Pantry
DESCRIPTION:Join Plymouth Settlement House in distributing food to those in need. Food pantry hours are 2:00-4:00 p.m. every Friday. Contact Rev. Greg Wright if you are interested in volunteering\, would like more information or to make a donation. 502-536-3434
URL:https://visionrussell.org/event/russell-dare-care-food-pantry/2026-01-09/
LOCATION:Plymouth Settlement House\, 1626 W. Chestnut St.\, Louisville\, KY\, 40203
GEO:38.2511482;-85.7787874
X-APPLE-STRUCTURED-LOCATION;VALUE=URI;X-ADDRESS=Plymouth Settlement House 1626 W. Chestnut St. Louisville KY 40203;X-APPLE-RADIUS=500;X-TITLE=1626 W. Chestnut St.:geo:-85.7787874,38.2511482
END:VEVENT
END:VCALENDAR