BEGIN:VCALENDAR
VERSION:2.0
PRODID:-//Vision Russell - ECPv6.15.18//NONSGML v1.0//EN
CALSCALE:GREGORIAN
METHOD:PUBLISH
X-ORIGINAL-URL:https://visionrussell.org
X-WR-CALDESC:Events for Vision Russell
REFRESH-INTERVAL;VALUE=DURATION:PT1H
X-Robots-Tag:noindex
X-PUBLISHED-TTL:PT1H
BEGIN:VTIMEZONE
TZID:America/Kentucky/Louisville
BEGIN:DAYLIGHT
TZOFFSETFROM:-0500
TZOFFSETTO:-0400
TZNAME:EDT
DTSTART:20260308T070000
END:DAYLIGHT
BEGIN:STANDARD
TZOFFSETFROM:-0400
TZOFFSETTO:-0500
TZNAME:EST
DTSTART:20261101T060000
END:STANDARD
BEGIN:DAYLIGHT
TZOFFSETFROM:-0500
TZOFFSETTO:-0400
TZNAME:EDT
DTSTART:20270314T070000
END:DAYLIGHT
BEGIN:STANDARD
TZOFFSETFROM:-0400
TZOFFSETTO:-0500
TZNAME:EST
DTSTART:20271107T060000
END:STANDARD
BEGIN:DAYLIGHT
TZOFFSETFROM:-0500
TZOFFSETTO:-0400
TZNAME:EDT
DTSTART:20280312T070000
END:DAYLIGHT
BEGIN:STANDARD
TZOFFSETFROM:-0400
TZOFFSETTO:-0500
TZNAME:EST
DTSTART:20281105T060000
END:STANDARD
END:VTIMEZONE
BEGIN:VEVENT
DTSTART;TZID=America/Kentucky/Louisville:20270409T140000
DTEND;TZID=America/Kentucky/Louisville:20270409T160000
DTSTAMP:20260422T181750
CREATED:20170828T193645Z
LAST-MODIFIED:20170828T193645Z
UID:6832-1807279200-1807286400@visionrussell.org
SUMMARY:Russell Dare to Care Food Pantry
DESCRIPTION:Join Plymouth Settlement House in distributing food to those in need. Food pantry hours are 2:00-4:00 p.m. every Friday. Contact Rev. Greg Wright if you are interested in volunteering\, would like more information or to make a donation. 502-536-3434
URL:https://visionrussell.org/event/russell-dare-care-food-pantry/2027-04-09/
LOCATION:Plymouth Settlement House\, 1626 W. Chestnut St.\, Louisville\, KY\, 40203
GEO:38.2511482;-85.7787874
X-APPLE-STRUCTURED-LOCATION;VALUE=URI;X-ADDRESS=Plymouth Settlement House 1626 W. Chestnut St. Louisville KY 40203;X-APPLE-RADIUS=500;X-TITLE=1626 W. Chestnut St.:geo:-85.7787874,38.2511482
END:VEVENT
BEGIN:VEVENT
DTSTART;TZID=America/Kentucky/Louisville:20270416T140000
DTEND;TZID=America/Kentucky/Louisville:20270416T160000
DTSTAMP:20260422T181750
CREATED:20170828T193645Z
LAST-MODIFIED:20170828T193645Z
UID:6834-1807884000-1807891200@visionrussell.org
SUMMARY:Russell Dare to Care Food Pantry
DESCRIPTION:Join Plymouth Settlement House in distributing food to those in need. Food pantry hours are 2:00-4:00 p.m. every Friday. Contact Rev. Greg Wright if you are interested in volunteering\, would like more information or to make a donation. 502-536-3434
URL:https://visionrussell.org/event/russell-dare-care-food-pantry/2027-04-16/
LOCATION:Plymouth Settlement House\, 1626 W. Chestnut St.\, Louisville\, KY\, 40203
GEO:38.2511482;-85.7787874
X-APPLE-STRUCTURED-LOCATION;VALUE=URI;X-ADDRESS=Plymouth Settlement House 1626 W. Chestnut St. Louisville KY 40203;X-APPLE-RADIUS=500;X-TITLE=1626 W. Chestnut St.:geo:-85.7787874,38.2511482
END:VEVENT
BEGIN:VEVENT
DTSTART;TZID=America/Kentucky/Louisville:20270423T140000
DTEND;TZID=America/Kentucky/Louisville:20270423T160000
DTSTAMP:20260422T181750
CREATED:20170828T193645Z
LAST-MODIFIED:20170828T193645Z
UID:6838-1808488800-1808496000@visionrussell.org
SUMMARY:Russell Dare to Care Food Pantry
DESCRIPTION:Join Plymouth Settlement House in distributing food to those in need. Food pantry hours are 2:00-4:00 p.m. every Friday. Contact Rev. Greg Wright if you are interested in volunteering\, would like more information or to make a donation. 502-536-3434
URL:https://visionrussell.org/event/russell-dare-care-food-pantry/2027-04-23/
LOCATION:Plymouth Settlement House\, 1626 W. Chestnut St.\, Louisville\, KY\, 40203
GEO:38.2511482;-85.7787874
X-APPLE-STRUCTURED-LOCATION;VALUE=URI;X-ADDRESS=Plymouth Settlement House 1626 W. Chestnut St. Louisville KY 40203;X-APPLE-RADIUS=500;X-TITLE=1626 W. Chestnut St.:geo:-85.7787874,38.2511482
END:VEVENT
BEGIN:VEVENT
DTSTART;TZID=America/Kentucky/Louisville:20270430T140000
DTEND;TZID=America/Kentucky/Louisville:20270430T160000
DTSTAMP:20260422T181750
CREATED:20170828T193645Z
LAST-MODIFIED:20170828T193645Z
UID:6840-1809093600-1809100800@visionrussell.org
SUMMARY:Russell Dare to Care Food Pantry
DESCRIPTION:Join Plymouth Settlement House in distributing food to those in need. Food pantry hours are 2:00-4:00 p.m. every Friday. Contact Rev. Greg Wright if you are interested in volunteering\, would like more information or to make a donation. 502-536-3434
URL:https://visionrussell.org/event/russell-dare-care-food-pantry/2027-04-30/
LOCATION:Plymouth Settlement House\, 1626 W. Chestnut St.\, Louisville\, KY\, 40203
GEO:38.2511482;-85.7787874
X-APPLE-STRUCTURED-LOCATION;VALUE=URI;X-ADDRESS=Plymouth Settlement House 1626 W. Chestnut St. Louisville KY 40203;X-APPLE-RADIUS=500;X-TITLE=1626 W. Chestnut St.:geo:-85.7787874,38.2511482
END:VEVENT
BEGIN:VEVENT
DTSTART;TZID=America/Kentucky/Louisville:20270507T140000
DTEND;TZID=America/Kentucky/Louisville:20270507T160000
DTSTAMP:20260422T181750
CREATED:20170828T193645Z
LAST-MODIFIED:20170828T193645Z
UID:6842-1809698400-1809705600@visionrussell.org
SUMMARY:Russell Dare to Care Food Pantry
DESCRIPTION:Join Plymouth Settlement House in distributing food to those in need. Food pantry hours are 2:00-4:00 p.m. every Friday. Contact Rev. Greg Wright if you are interested in volunteering\, would like more information or to make a donation. 502-536-3434
URL:https://visionrussell.org/event/russell-dare-care-food-pantry/2027-05-07/
LOCATION:Plymouth Settlement House\, 1626 W. Chestnut St.\, Louisville\, KY\, 40203
GEO:38.2511482;-85.7787874
X-APPLE-STRUCTURED-LOCATION;VALUE=URI;X-ADDRESS=Plymouth Settlement House 1626 W. Chestnut St. Louisville KY 40203;X-APPLE-RADIUS=500;X-TITLE=1626 W. Chestnut St.:geo:-85.7787874,38.2511482
END:VEVENT
BEGIN:VEVENT
DTSTART;TZID=America/Kentucky/Louisville:20270514T140000
DTEND;TZID=America/Kentucky/Louisville:20270514T160000
DTSTAMP:20260422T181750
CREATED:20170828T193645Z
LAST-MODIFIED:20170828T193645Z
UID:6844-1810303200-1810310400@visionrussell.org
SUMMARY:Russell Dare to Care Food Pantry
DESCRIPTION:Join Plymouth Settlement House in distributing food to those in need. Food pantry hours are 2:00-4:00 p.m. every Friday. Contact Rev. Greg Wright if you are interested in volunteering\, would like more information or to make a donation. 502-536-3434
URL:https://visionrussell.org/event/russell-dare-care-food-pantry/2027-05-14/
LOCATION:Plymouth Settlement House\, 1626 W. Chestnut St.\, Louisville\, KY\, 40203
GEO:38.2511482;-85.7787874
X-APPLE-STRUCTURED-LOCATION;VALUE=URI;X-ADDRESS=Plymouth Settlement House 1626 W. Chestnut St. Louisville KY 40203;X-APPLE-RADIUS=500;X-TITLE=1626 W. Chestnut St.:geo:-85.7787874,38.2511482
END:VEVENT
BEGIN:VEVENT
DTSTART;TZID=America/Kentucky/Louisville:20270521T140000
DTEND;TZID=America/Kentucky/Louisville:20270521T160000
DTSTAMP:20260422T181750
CREATED:20170828T193645Z
LAST-MODIFIED:20170828T193645Z
UID:6848-1810908000-1810915200@visionrussell.org
SUMMARY:Russell Dare to Care Food Pantry
DESCRIPTION:Join Plymouth Settlement House in distributing food to those in need. Food pantry hours are 2:00-4:00 p.m. every Friday. Contact Rev. Greg Wright if you are interested in volunteering\, would like more information or to make a donation. 502-536-3434
URL:https://visionrussell.org/event/russell-dare-care-food-pantry/2027-05-21/
LOCATION:Plymouth Settlement House\, 1626 W. Chestnut St.\, Louisville\, KY\, 40203
GEO:38.2511482;-85.7787874
X-APPLE-STRUCTURED-LOCATION;VALUE=URI;X-ADDRESS=Plymouth Settlement House 1626 W. Chestnut St. Louisville KY 40203;X-APPLE-RADIUS=500;X-TITLE=1626 W. Chestnut St.:geo:-85.7787874,38.2511482
END:VEVENT
BEGIN:VEVENT
DTSTART;TZID=America/Kentucky/Louisville:20270528T140000
DTEND;TZID=America/Kentucky/Louisville:20270528T160000
DTSTAMP:20260422T181750
CREATED:20170828T193645Z
LAST-MODIFIED:20170828T193645Z
UID:6850-1811512800-1811520000@visionrussell.org
SUMMARY:Russell Dare to Care Food Pantry
DESCRIPTION:Join Plymouth Settlement House in distributing food to those in need. Food pantry hours are 2:00-4:00 p.m. every Friday. Contact Rev. Greg Wright if you are interested in volunteering\, would like more information or to make a donation. 502-536-3434
URL:https://visionrussell.org/event/russell-dare-care-food-pantry/2027-05-28/
LOCATION:Plymouth Settlement House\, 1626 W. Chestnut St.\, Louisville\, KY\, 40203
GEO:38.2511482;-85.7787874
X-APPLE-STRUCTURED-LOCATION;VALUE=URI;X-ADDRESS=Plymouth Settlement House 1626 W. Chestnut St. Louisville KY 40203;X-APPLE-RADIUS=500;X-TITLE=1626 W. Chestnut St.:geo:-85.7787874,38.2511482
END:VEVENT
BEGIN:VEVENT
DTSTART;TZID=America/Kentucky/Louisville:20270604T140000
DTEND;TZID=America/Kentucky/Louisville:20270604T160000
DTSTAMP:20260422T181750
CREATED:20170828T193645Z
LAST-MODIFIED:20170828T193645Z
UID:6852-1812117600-1812124800@visionrussell.org
SUMMARY:Russell Dare to Care Food Pantry
DESCRIPTION:Join Plymouth Settlement House in distributing food to those in need. Food pantry hours are 2:00-4:00 p.m. every Friday. Contact Rev. Greg Wright if you are interested in volunteering\, would like more information or to make a donation. 502-536-3434
URL:https://visionrussell.org/event/russell-dare-care-food-pantry/2027-06-04/
LOCATION:Plymouth Settlement House\, 1626 W. Chestnut St.\, Louisville\, KY\, 40203
GEO:38.2511482;-85.7787874
X-APPLE-STRUCTURED-LOCATION;VALUE=URI;X-ADDRESS=Plymouth Settlement House 1626 W. Chestnut St. Louisville KY 40203;X-APPLE-RADIUS=500;X-TITLE=1626 W. Chestnut St.:geo:-85.7787874,38.2511482
END:VEVENT
BEGIN:VEVENT
DTSTART;TZID=America/Kentucky/Louisville:20270611T140000
DTEND;TZID=America/Kentucky/Louisville:20270611T160000
DTSTAMP:20260422T181750
CREATED:20170828T193645Z
LAST-MODIFIED:20170828T193645Z
UID:6854-1812722400-1812729600@visionrussell.org
SUMMARY:Russell Dare to Care Food Pantry
DESCRIPTION:Join Plymouth Settlement House in distributing food to those in need. Food pantry hours are 2:00-4:00 p.m. every Friday. Contact Rev. Greg Wright if you are interested in volunteering\, would like more information or to make a donation. 502-536-3434
URL:https://visionrussell.org/event/russell-dare-care-food-pantry/2027-06-11/
LOCATION:Plymouth Settlement House\, 1626 W. Chestnut St.\, Louisville\, KY\, 40203
GEO:38.2511482;-85.7787874
X-APPLE-STRUCTURED-LOCATION;VALUE=URI;X-ADDRESS=Plymouth Settlement House 1626 W. Chestnut St. Louisville KY 40203;X-APPLE-RADIUS=500;X-TITLE=1626 W. Chestnut St.:geo:-85.7787874,38.2511482
END:VEVENT
BEGIN:VEVENT
DTSTART;TZID=America/Kentucky/Louisville:20270618T140000
DTEND;TZID=America/Kentucky/Louisville:20270618T160000
DTSTAMP:20260422T181750
CREATED:20170828T193645Z
LAST-MODIFIED:20170828T193645Z
UID:6856-1813327200-1813334400@visionrussell.org
SUMMARY:Russell Dare to Care Food Pantry
DESCRIPTION:Join Plymouth Settlement House in distributing food to those in need. Food pantry hours are 2:00-4:00 p.m. every Friday. Contact Rev. Greg Wright if you are interested in volunteering\, would like more information or to make a donation. 502-536-3434
URL:https://visionrussell.org/event/russell-dare-care-food-pantry/2027-06-18/
LOCATION:Plymouth Settlement House\, 1626 W. Chestnut St.\, Louisville\, KY\, 40203
GEO:38.2511482;-85.7787874
X-APPLE-STRUCTURED-LOCATION;VALUE=URI;X-ADDRESS=Plymouth Settlement House 1626 W. Chestnut St. Louisville KY 40203;X-APPLE-RADIUS=500;X-TITLE=1626 W. Chestnut St.:geo:-85.7787874,38.2511482
END:VEVENT
BEGIN:VEVENT
DTSTART;TZID=America/Kentucky/Louisville:20270625T140000
DTEND;TZID=America/Kentucky/Louisville:20270625T160000
DTSTAMP:20260422T181750
CREATED:20170828T193645Z
LAST-MODIFIED:20170828T193645Z
UID:6860-1813932000-1813939200@visionrussell.org
SUMMARY:Russell Dare to Care Food Pantry
DESCRIPTION:Join Plymouth Settlement House in distributing food to those in need. Food pantry hours are 2:00-4:00 p.m. every Friday. Contact Rev. Greg Wright if you are interested in volunteering\, would like more information or to make a donation. 502-536-3434
URL:https://visionrussell.org/event/russell-dare-care-food-pantry/2027-06-25/
LOCATION:Plymouth Settlement House\, 1626 W. Chestnut St.\, Louisville\, KY\, 40203
GEO:38.2511482;-85.7787874
X-APPLE-STRUCTURED-LOCATION;VALUE=URI;X-ADDRESS=Plymouth Settlement House 1626 W. Chestnut St. Louisville KY 40203;X-APPLE-RADIUS=500;X-TITLE=1626 W. Chestnut St.:geo:-85.7787874,38.2511482
END:VEVENT
BEGIN:VEVENT
DTSTART;TZID=America/Kentucky/Louisville:20270702T140000
DTEND;TZID=America/Kentucky/Louisville:20270702T160000
DTSTAMP:20260422T181750
CREATED:20170828T193645Z
LAST-MODIFIED:20170828T193645Z
UID:6862-1814536800-1814544000@visionrussell.org
SUMMARY:Russell Dare to Care Food Pantry
DESCRIPTION:Join Plymouth Settlement House in distributing food to those in need. Food pantry hours are 2:00-4:00 p.m. every Friday. Contact Rev. Greg Wright if you are interested in volunteering\, would like more information or to make a donation. 502-536-3434
URL:https://visionrussell.org/event/russell-dare-care-food-pantry/2027-07-02/
LOCATION:Plymouth Settlement House\, 1626 W. Chestnut St.\, Louisville\, KY\, 40203
GEO:38.2511482;-85.7787874
X-APPLE-STRUCTURED-LOCATION;VALUE=URI;X-ADDRESS=Plymouth Settlement House 1626 W. Chestnut St. Louisville KY 40203;X-APPLE-RADIUS=500;X-TITLE=1626 W. Chestnut St.:geo:-85.7787874,38.2511482
END:VEVENT
BEGIN:VEVENT
DTSTART;TZID=America/Kentucky/Louisville:20270709T140000
DTEND;TZID=America/Kentucky/Louisville:20270709T160000
DTSTAMP:20260422T181750
CREATED:20170828T193645Z
LAST-MODIFIED:20170828T193645Z
UID:6864-1815141600-1815148800@visionrussell.org
SUMMARY:Russell Dare to Care Food Pantry
DESCRIPTION:Join Plymouth Settlement House in distributing food to those in need. Food pantry hours are 2:00-4:00 p.m. every Friday. Contact Rev. Greg Wright if you are interested in volunteering\, would like more information or to make a donation. 502-536-3434
URL:https://visionrussell.org/event/russell-dare-care-food-pantry/2027-07-09/
LOCATION:Plymouth Settlement House\, 1626 W. Chestnut St.\, Louisville\, KY\, 40203
GEO:38.2511482;-85.7787874
X-APPLE-STRUCTURED-LOCATION;VALUE=URI;X-ADDRESS=Plymouth Settlement House 1626 W. Chestnut St. Louisville KY 40203;X-APPLE-RADIUS=500;X-TITLE=1626 W. Chestnut St.:geo:-85.7787874,38.2511482
END:VEVENT
BEGIN:VEVENT
DTSTART;TZID=America/Kentucky/Louisville:20270716T140000
DTEND;TZID=America/Kentucky/Louisville:20270716T160000
DTSTAMP:20260422T181750
CREATED:20170828T193645Z
LAST-MODIFIED:20170828T193645Z
UID:6866-1815746400-1815753600@visionrussell.org
SUMMARY:Russell Dare to Care Food Pantry
DESCRIPTION:Join Plymouth Settlement House in distributing food to those in need. Food pantry hours are 2:00-4:00 p.m. every Friday. Contact Rev. Greg Wright if you are interested in volunteering\, would like more information or to make a donation. 502-536-3434
URL:https://visionrussell.org/event/russell-dare-care-food-pantry/2027-07-16/
LOCATION:Plymouth Settlement House\, 1626 W. Chestnut St.\, Louisville\, KY\, 40203
GEO:38.2511482;-85.7787874
X-APPLE-STRUCTURED-LOCATION;VALUE=URI;X-ADDRESS=Plymouth Settlement House 1626 W. Chestnut St. Louisville KY 40203;X-APPLE-RADIUS=500;X-TITLE=1626 W. Chestnut St.:geo:-85.7787874,38.2511482
END:VEVENT
BEGIN:VEVENT
DTSTART;TZID=America/Kentucky/Louisville:20270723T140000
DTEND;TZID=America/Kentucky/Louisville:20270723T160000
DTSTAMP:20260422T181750
CREATED:20170828T193645Z
LAST-MODIFIED:20170828T193645Z
UID:6869-1816351200-1816358400@visionrussell.org
SUMMARY:Russell Dare to Care Food Pantry
DESCRIPTION:Join Plymouth Settlement House in distributing food to those in need. Food pantry hours are 2:00-4:00 p.m. every Friday. Contact Rev. Greg Wright if you are interested in volunteering\, would like more information or to make a donation. 502-536-3434
URL:https://visionrussell.org/event/russell-dare-care-food-pantry/2027-07-23/
LOCATION:Plymouth Settlement House\, 1626 W. Chestnut St.\, Louisville\, KY\, 40203
GEO:38.2511482;-85.7787874
X-APPLE-STRUCTURED-LOCATION;VALUE=URI;X-ADDRESS=Plymouth Settlement House 1626 W. Chestnut St. Louisville KY 40203;X-APPLE-RADIUS=500;X-TITLE=1626 W. Chestnut St.:geo:-85.7787874,38.2511482
END:VEVENT
BEGIN:VEVENT
DTSTART;TZID=America/Kentucky/Louisville:20270730T140000
DTEND;TZID=America/Kentucky/Louisville:20270730T160000
DTSTAMP:20260422T181750
CREATED:20170828T193645Z
LAST-MODIFIED:20170828T193645Z
UID:6871-1816956000-1816963200@visionrussell.org
SUMMARY:Russell Dare to Care Food Pantry
DESCRIPTION:Join Plymouth Settlement House in distributing food to those in need. Food pantry hours are 2:00-4:00 p.m. every Friday. Contact Rev. Greg Wright if you are interested in volunteering\, would like more information or to make a donation. 502-536-3434
URL:https://visionrussell.org/event/russell-dare-care-food-pantry/2027-07-30/
LOCATION:Plymouth Settlement House\, 1626 W. Chestnut St.\, Louisville\, KY\, 40203
GEO:38.2511482;-85.7787874
X-APPLE-STRUCTURED-LOCATION;VALUE=URI;X-ADDRESS=Plymouth Settlement House 1626 W. Chestnut St. Louisville KY 40203;X-APPLE-RADIUS=500;X-TITLE=1626 W. Chestnut St.:geo:-85.7787874,38.2511482
END:VEVENT
BEGIN:VEVENT
DTSTART;TZID=America/Kentucky/Louisville:20270806T140000
DTEND;TZID=America/Kentucky/Louisville:20270806T160000
DTSTAMP:20260422T181750
CREATED:20170828T193645Z
LAST-MODIFIED:20170828T193645Z
UID:6873-1817560800-1817568000@visionrussell.org
SUMMARY:Russell Dare to Care Food Pantry
DESCRIPTION:Join Plymouth Settlement House in distributing food to those in need. Food pantry hours are 2:00-4:00 p.m. every Friday. Contact Rev. Greg Wright if you are interested in volunteering\, would like more information or to make a donation. 502-536-3434
URL:https://visionrussell.org/event/russell-dare-care-food-pantry/2027-08-06/
LOCATION:Plymouth Settlement House\, 1626 W. Chestnut St.\, Louisville\, KY\, 40203
GEO:38.2511482;-85.7787874
X-APPLE-STRUCTURED-LOCATION;VALUE=URI;X-ADDRESS=Plymouth Settlement House 1626 W. Chestnut St. Louisville KY 40203;X-APPLE-RADIUS=500;X-TITLE=1626 W. Chestnut St.:geo:-85.7787874,38.2511482
END:VEVENT
BEGIN:VEVENT
DTSTART;TZID=America/Kentucky/Louisville:20270813T140000
DTEND;TZID=America/Kentucky/Louisville:20270813T160000
DTSTAMP:20260422T181750
CREATED:20170828T193645Z
LAST-MODIFIED:20170828T193645Z
UID:6877-1818165600-1818172800@visionrussell.org
SUMMARY:Russell Dare to Care Food Pantry
DESCRIPTION:Join Plymouth Settlement House in distributing food to those in need. Food pantry hours are 2:00-4:00 p.m. every Friday. Contact Rev. Greg Wright if you are interested in volunteering\, would like more information or to make a donation. 502-536-3434
URL:https://visionrussell.org/event/russell-dare-care-food-pantry/2027-08-13/
LOCATION:Plymouth Settlement House\, 1626 W. Chestnut St.\, Louisville\, KY\, 40203
GEO:38.2511482;-85.7787874
X-APPLE-STRUCTURED-LOCATION;VALUE=URI;X-ADDRESS=Plymouth Settlement House 1626 W. Chestnut St. Louisville KY 40203;X-APPLE-RADIUS=500;X-TITLE=1626 W. Chestnut St.:geo:-85.7787874,38.2511482
END:VEVENT
BEGIN:VEVENT
DTSTART;TZID=America/Kentucky/Louisville:20270820T140000
DTEND;TZID=America/Kentucky/Louisville:20270820T160000
DTSTAMP:20260422T181750
CREATED:20170828T193645Z
LAST-MODIFIED:20170828T193645Z
UID:6879-1818770400-1818777600@visionrussell.org
SUMMARY:Russell Dare to Care Food Pantry
DESCRIPTION:Join Plymouth Settlement House in distributing food to those in need. Food pantry hours are 2:00-4:00 p.m. every Friday. Contact Rev. Greg Wright if you are interested in volunteering\, would like more information or to make a donation. 502-536-3434
URL:https://visionrussell.org/event/russell-dare-care-food-pantry/2027-08-20/
LOCATION:Plymouth Settlement House\, 1626 W. Chestnut St.\, Louisville\, KY\, 40203
GEO:38.2511482;-85.7787874
X-APPLE-STRUCTURED-LOCATION;VALUE=URI;X-ADDRESS=Plymouth Settlement House 1626 W. Chestnut St. Louisville KY 40203;X-APPLE-RADIUS=500;X-TITLE=1626 W. Chestnut St.:geo:-85.7787874,38.2511482
END:VEVENT
BEGIN:VEVENT
DTSTART;TZID=America/Kentucky/Louisville:20270827T140000
DTEND;TZID=America/Kentucky/Louisville:20270827T160000
DTSTAMP:20260422T181750
CREATED:20170828T193645Z
LAST-MODIFIED:20170828T193645Z
UID:6881-1819375200-1819382400@visionrussell.org
SUMMARY:Russell Dare to Care Food Pantry
DESCRIPTION:Join Plymouth Settlement House in distributing food to those in need. Food pantry hours are 2:00-4:00 p.m. every Friday. Contact Rev. Greg Wright if you are interested in volunteering\, would like more information or to make a donation. 502-536-3434
URL:https://visionrussell.org/event/russell-dare-care-food-pantry/2027-08-27/
LOCATION:Plymouth Settlement House\, 1626 W. Chestnut St.\, Louisville\, KY\, 40203
GEO:38.2511482;-85.7787874
X-APPLE-STRUCTURED-LOCATION;VALUE=URI;X-ADDRESS=Plymouth Settlement House 1626 W. Chestnut St. Louisville KY 40203;X-APPLE-RADIUS=500;X-TITLE=1626 W. Chestnut St.:geo:-85.7787874,38.2511482
END:VEVENT
BEGIN:VEVENT
DTSTART;TZID=America/Kentucky/Louisville:20270903T140000
DTEND;TZID=America/Kentucky/Louisville:20270903T160000
DTSTAMP:20260422T181750
CREATED:20170828T193645Z
LAST-MODIFIED:20170828T193645Z
UID:6883-1819980000-1819987200@visionrussell.org
SUMMARY:Russell Dare to Care Food Pantry
DESCRIPTION:Join Plymouth Settlement House in distributing food to those in need. Food pantry hours are 2:00-4:00 p.m. every Friday. Contact Rev. Greg Wright if you are interested in volunteering\, would like more information or to make a donation. 502-536-3434
URL:https://visionrussell.org/event/russell-dare-care-food-pantry/2027-09-03/
LOCATION:Plymouth Settlement House\, 1626 W. Chestnut St.\, Louisville\, KY\, 40203
GEO:38.2511482;-85.7787874
X-APPLE-STRUCTURED-LOCATION;VALUE=URI;X-ADDRESS=Plymouth Settlement House 1626 W. Chestnut St. Louisville KY 40203;X-APPLE-RADIUS=500;X-TITLE=1626 W. Chestnut St.:geo:-85.7787874,38.2511482
END:VEVENT
BEGIN:VEVENT
DTSTART;TZID=America/Kentucky/Louisville:20270910T140000
DTEND;TZID=America/Kentucky/Louisville:20270910T160000
DTSTAMP:20260422T181750
CREATED:20170828T193645Z
LAST-MODIFIED:20170828T193645Z
UID:6885-1820584800-1820592000@visionrussell.org
SUMMARY:Russell Dare to Care Food Pantry
DESCRIPTION:Join Plymouth Settlement House in distributing food to those in need. Food pantry hours are 2:00-4:00 p.m. every Friday. Contact Rev. Greg Wright if you are interested in volunteering\, would like more information or to make a donation. 502-536-3434
URL:https://visionrussell.org/event/russell-dare-care-food-pantry/2027-09-10/
LOCATION:Plymouth Settlement House\, 1626 W. Chestnut St.\, Louisville\, KY\, 40203
GEO:38.2511482;-85.7787874
X-APPLE-STRUCTURED-LOCATION;VALUE=URI;X-ADDRESS=Plymouth Settlement House 1626 W. Chestnut St. Louisville KY 40203;X-APPLE-RADIUS=500;X-TITLE=1626 W. Chestnut St.:geo:-85.7787874,38.2511482
END:VEVENT
BEGIN:VEVENT
DTSTART;TZID=America/Kentucky/Louisville:20270917T140000
DTEND;TZID=America/Kentucky/Louisville:20270917T160000
DTSTAMP:20260422T181750
CREATED:20170828T193645Z
LAST-MODIFIED:20170828T193645Z
UID:6888-1821189600-1821196800@visionrussell.org
SUMMARY:Russell Dare to Care Food Pantry
DESCRIPTION:Join Plymouth Settlement House in distributing food to those in need. Food pantry hours are 2:00-4:00 p.m. every Friday. Contact Rev. Greg Wright if you are interested in volunteering\, would like more information or to make a donation. 502-536-3434
URL:https://visionrussell.org/event/russell-dare-care-food-pantry/2027-09-17/
LOCATION:Plymouth Settlement House\, 1626 W. Chestnut St.\, Louisville\, KY\, 40203
GEO:38.2511482;-85.7787874
X-APPLE-STRUCTURED-LOCATION;VALUE=URI;X-ADDRESS=Plymouth Settlement House 1626 W. Chestnut St. Louisville KY 40203;X-APPLE-RADIUS=500;X-TITLE=1626 W. Chestnut St.:geo:-85.7787874,38.2511482
END:VEVENT
BEGIN:VEVENT
DTSTART;TZID=America/Kentucky/Louisville:20270924T140000
DTEND;TZID=America/Kentucky/Louisville:20270924T160000
DTSTAMP:20260422T181750
CREATED:20170828T193645Z
LAST-MODIFIED:20170828T193645Z
UID:6891-1821794400-1821801600@visionrussell.org
SUMMARY:Russell Dare to Care Food Pantry
DESCRIPTION:Join Plymouth Settlement House in distributing food to those in need. Food pantry hours are 2:00-4:00 p.m. every Friday. Contact Rev. Greg Wright if you are interested in volunteering\, would like more information or to make a donation. 502-536-3434
URL:https://visionrussell.org/event/russell-dare-care-food-pantry/2027-09-24/
LOCATION:Plymouth Settlement House\, 1626 W. Chestnut St.\, Louisville\, KY\, 40203
GEO:38.2511482;-85.7787874
X-APPLE-STRUCTURED-LOCATION;VALUE=URI;X-ADDRESS=Plymouth Settlement House 1626 W. Chestnut St. Louisville KY 40203;X-APPLE-RADIUS=500;X-TITLE=1626 W. Chestnut St.:geo:-85.7787874,38.2511482
END:VEVENT
BEGIN:VEVENT
DTSTART;TZID=America/Kentucky/Louisville:20271001T140000
DTEND;TZID=America/Kentucky/Louisville:20271001T160000
DTSTAMP:20260422T181750
CREATED:20170828T193645Z
LAST-MODIFIED:20170828T193645Z
UID:6893-1822399200-1822406400@visionrussell.org
SUMMARY:Russell Dare to Care Food Pantry
DESCRIPTION:Join Plymouth Settlement House in distributing food to those in need. Food pantry hours are 2:00-4:00 p.m. every Friday. Contact Rev. Greg Wright if you are interested in volunteering\, would like more information or to make a donation. 502-536-3434
URL:https://visionrussell.org/event/russell-dare-care-food-pantry/2027-10-01/
LOCATION:Plymouth Settlement House\, 1626 W. Chestnut St.\, Louisville\, KY\, 40203
GEO:38.2511482;-85.7787874
X-APPLE-STRUCTURED-LOCATION;VALUE=URI;X-ADDRESS=Plymouth Settlement House 1626 W. Chestnut St. Louisville KY 40203;X-APPLE-RADIUS=500;X-TITLE=1626 W. Chestnut St.:geo:-85.7787874,38.2511482
END:VEVENT
BEGIN:VEVENT
DTSTART;TZID=America/Kentucky/Louisville:20271008T140000
DTEND;TZID=America/Kentucky/Louisville:20271008T160000
DTSTAMP:20260422T181750
CREATED:20170828T193645Z
LAST-MODIFIED:20170828T193645Z
UID:6895-1823004000-1823011200@visionrussell.org
SUMMARY:Russell Dare to Care Food Pantry
DESCRIPTION:Join Plymouth Settlement House in distributing food to those in need. Food pantry hours are 2:00-4:00 p.m. every Friday. Contact Rev. Greg Wright if you are interested in volunteering\, would like more information or to make a donation. 502-536-3434
URL:https://visionrussell.org/event/russell-dare-care-food-pantry/2027-10-08/
LOCATION:Plymouth Settlement House\, 1626 W. Chestnut St.\, Louisville\, KY\, 40203
GEO:38.2511482;-85.7787874
X-APPLE-STRUCTURED-LOCATION;VALUE=URI;X-ADDRESS=Plymouth Settlement House 1626 W. Chestnut St. Louisville KY 40203;X-APPLE-RADIUS=500;X-TITLE=1626 W. Chestnut St.:geo:-85.7787874,38.2511482
END:VEVENT
BEGIN:VEVENT
DTSTART;TZID=America/Kentucky/Louisville:20271015T140000
DTEND;TZID=America/Kentucky/Louisville:20271015T160000
DTSTAMP:20260422T181750
CREATED:20170828T193645Z
LAST-MODIFIED:20170828T193645Z
UID:6899-1823608800-1823616000@visionrussell.org
SUMMARY:Russell Dare to Care Food Pantry
DESCRIPTION:Join Plymouth Settlement House in distributing food to those in need. Food pantry hours are 2:00-4:00 p.m. every Friday. Contact Rev. Greg Wright if you are interested in volunteering\, would like more information or to make a donation. 502-536-3434
URL:https://visionrussell.org/event/russell-dare-care-food-pantry/2027-10-15/
LOCATION:Plymouth Settlement House\, 1626 W. Chestnut St.\, Louisville\, KY\, 40203
GEO:38.2511482;-85.7787874
X-APPLE-STRUCTURED-LOCATION;VALUE=URI;X-ADDRESS=Plymouth Settlement House 1626 W. Chestnut St. Louisville KY 40203;X-APPLE-RADIUS=500;X-TITLE=1626 W. Chestnut St.:geo:-85.7787874,38.2511482
END:VEVENT
BEGIN:VEVENT
DTSTART;TZID=America/Kentucky/Louisville:20271022T140000
DTEND;TZID=America/Kentucky/Louisville:20271022T160000
DTSTAMP:20260422T181750
CREATED:20170828T193645Z
LAST-MODIFIED:20170828T193645Z
UID:6903-1824213600-1824220800@visionrussell.org
SUMMARY:Russell Dare to Care Food Pantry
DESCRIPTION:Join Plymouth Settlement House in distributing food to those in need. Food pantry hours are 2:00-4:00 p.m. every Friday. Contact Rev. Greg Wright if you are interested in volunteering\, would like more information or to make a donation. 502-536-3434
URL:https://visionrussell.org/event/russell-dare-care-food-pantry/2027-10-22/
LOCATION:Plymouth Settlement House\, 1626 W. Chestnut St.\, Louisville\, KY\, 40203
GEO:38.2511482;-85.7787874
X-APPLE-STRUCTURED-LOCATION;VALUE=URI;X-ADDRESS=Plymouth Settlement House 1626 W. Chestnut St. Louisville KY 40203;X-APPLE-RADIUS=500;X-TITLE=1626 W. Chestnut St.:geo:-85.7787874,38.2511482
END:VEVENT
BEGIN:VEVENT
DTSTART;TZID=America/Kentucky/Louisville:20271029T140000
DTEND;TZID=America/Kentucky/Louisville:20271029T160000
DTSTAMP:20260422T181750
CREATED:20170828T193645Z
LAST-MODIFIED:20170828T193645Z
UID:6905-1824818400-1824825600@visionrussell.org
SUMMARY:Russell Dare to Care Food Pantry
DESCRIPTION:Join Plymouth Settlement House in distributing food to those in need. Food pantry hours are 2:00-4:00 p.m. every Friday. Contact Rev. Greg Wright if you are interested in volunteering\, would like more information or to make a donation. 502-536-3434
URL:https://visionrussell.org/event/russell-dare-care-food-pantry/2027-10-29/
LOCATION:Plymouth Settlement House\, 1626 W. Chestnut St.\, Louisville\, KY\, 40203
GEO:38.2511482;-85.7787874
X-APPLE-STRUCTURED-LOCATION;VALUE=URI;X-ADDRESS=Plymouth Settlement House 1626 W. Chestnut St. Louisville KY 40203;X-APPLE-RADIUS=500;X-TITLE=1626 W. Chestnut St.:geo:-85.7787874,38.2511482
END:VEVENT
END:VCALENDAR