BEGIN:VCALENDAR
VERSION:2.0
PRODID:-//Vision Russell - ECPv6.15.18//NONSGML v1.0//EN
CALSCALE:GREGORIAN
METHOD:PUBLISH
X-ORIGINAL-URL:https://visionrussell.org
X-WR-CALDESC:Events for Vision Russell
REFRESH-INTERVAL;VALUE=DURATION:PT1H
X-Robots-Tag:noindex
X-PUBLISHED-TTL:PT1H
BEGIN:VTIMEZONE
TZID:America/Kentucky/Louisville
BEGIN:DAYLIGHT
TZOFFSETFROM:-0500
TZOFFSETTO:-0400
TZNAME:EDT
DTSTART:20190310T070000
END:DAYLIGHT
BEGIN:STANDARD
TZOFFSETFROM:-0400
TZOFFSETTO:-0500
TZNAME:EST
DTSTART:20191103T060000
END:STANDARD
BEGIN:DAYLIGHT
TZOFFSETFROM:-0500
TZOFFSETTO:-0400
TZNAME:EDT
DTSTART:20200308T070000
END:DAYLIGHT
BEGIN:STANDARD
TZOFFSETFROM:-0400
TZOFFSETTO:-0500
TZNAME:EST
DTSTART:20201101T060000
END:STANDARD
BEGIN:DAYLIGHT
TZOFFSETFROM:-0500
TZOFFSETTO:-0400
TZNAME:EDT
DTSTART:20210314T070000
END:DAYLIGHT
BEGIN:STANDARD
TZOFFSETFROM:-0400
TZOFFSETTO:-0500
TZNAME:EST
DTSTART:20211107T060000
END:STANDARD
BEGIN:DAYLIGHT
TZOFFSETFROM:-0500
TZOFFSETTO:-0400
TZNAME:EDT
DTSTART:20220313T070000
END:DAYLIGHT
BEGIN:STANDARD
TZOFFSETFROM:-0400
TZOFFSETTO:-0500
TZNAME:EST
DTSTART:20221106T060000
END:STANDARD
BEGIN:DAYLIGHT
TZOFFSETFROM:-0500
TZOFFSETTO:-0400
TZNAME:EDT
DTSTART:20230312T070000
END:DAYLIGHT
BEGIN:STANDARD
TZOFFSETFROM:-0400
TZOFFSETTO:-0500
TZNAME:EST
DTSTART:20231105T060000
END:STANDARD
BEGIN:DAYLIGHT
TZOFFSETFROM:-0500
TZOFFSETTO:-0400
TZNAME:EDT
DTSTART:20240310T070000
END:DAYLIGHT
BEGIN:STANDARD
TZOFFSETFROM:-0400
TZOFFSETTO:-0500
TZNAME:EST
DTSTART:20241103T060000
END:STANDARD
BEGIN:DAYLIGHT
TZOFFSETFROM:-0500
TZOFFSETTO:-0400
TZNAME:EDT
DTSTART:20250309T070000
END:DAYLIGHT
BEGIN:STANDARD
TZOFFSETFROM:-0400
TZOFFSETTO:-0500
TZNAME:EST
DTSTART:20251102T060000
END:STANDARD
END:VTIMEZONE
BEGIN:VEVENT
DTSTART;TZID=America/Kentucky/Louisville:20240927T140000
DTEND;TZID=America/Kentucky/Louisville:20240927T160000
DTSTAMP:20260423T005508
CREATED:20170828T193645Z
LAST-MODIFIED:20170828T193645Z
UID:6170-1727445600-1727452800@visionrussell.org
SUMMARY:Russell Dare to Care Food Pantry
DESCRIPTION:Join Plymouth Settlement House in distributing food to those in need. Food pantry hours are 2:00-4:00 p.m. every Friday. Contact Rev. Greg Wright if you are interested in volunteering\, would like more information or to make a donation. 502-536-3434
URL:https://visionrussell.org/event/russell-dare-care-food-pantry/2024-09-27/
LOCATION:Plymouth Settlement House\, 1626 W. Chestnut St.\, Louisville\, KY\, 40203
GEO:38.2511482;-85.7787874
X-APPLE-STRUCTURED-LOCATION;VALUE=URI;X-ADDRESS=Plymouth Settlement House 1626 W. Chestnut St. Louisville KY 40203;X-APPLE-RADIUS=500;X-TITLE=1626 W. Chestnut St.:geo:-85.7787874,38.2511482
END:VEVENT
BEGIN:VEVENT
DTSTART;TZID=America/Kentucky/Louisville:20240920T140000
DTEND;TZID=America/Kentucky/Louisville:20240920T160000
DTSTAMP:20260423T005508
CREATED:20170828T193645Z
LAST-MODIFIED:20170828T193645Z
UID:6168-1726840800-1726848000@visionrussell.org
SUMMARY:Russell Dare to Care Food Pantry
DESCRIPTION:Join Plymouth Settlement House in distributing food to those in need. Food pantry hours are 2:00-4:00 p.m. every Friday. Contact Rev. Greg Wright if you are interested in volunteering\, would like more information or to make a donation. 502-536-3434
URL:https://visionrussell.org/event/russell-dare-care-food-pantry/2024-09-20/
LOCATION:Plymouth Settlement House\, 1626 W. Chestnut St.\, Louisville\, KY\, 40203
GEO:38.2511482;-85.7787874
X-APPLE-STRUCTURED-LOCATION;VALUE=URI;X-ADDRESS=Plymouth Settlement House 1626 W. Chestnut St. Louisville KY 40203;X-APPLE-RADIUS=500;X-TITLE=1626 W. Chestnut St.:geo:-85.7787874,38.2511482
END:VEVENT
BEGIN:VEVENT
DTSTART;TZID=America/Kentucky/Louisville:20240913T140000
DTEND;TZID=America/Kentucky/Louisville:20240913T160000
DTSTAMP:20260423T005508
CREATED:20170828T193645Z
LAST-MODIFIED:20170828T193645Z
UID:6159-1726236000-1726243200@visionrussell.org
SUMMARY:Russell Dare to Care Food Pantry
DESCRIPTION:Join Plymouth Settlement House in distributing food to those in need. Food pantry hours are 2:00-4:00 p.m. every Friday. Contact Rev. Greg Wright if you are interested in volunteering\, would like more information or to make a donation. 502-536-3434
URL:https://visionrussell.org/event/russell-dare-care-food-pantry/2024-09-13/
LOCATION:Plymouth Settlement House\, 1626 W. Chestnut St.\, Louisville\, KY\, 40203
GEO:38.2511482;-85.7787874
X-APPLE-STRUCTURED-LOCATION;VALUE=URI;X-ADDRESS=Plymouth Settlement House 1626 W. Chestnut St. Louisville KY 40203;X-APPLE-RADIUS=500;X-TITLE=1626 W. Chestnut St.:geo:-85.7787874,38.2511482
END:VEVENT
BEGIN:VEVENT
DTSTART;TZID=America/Kentucky/Louisville:20240906T140000
DTEND;TZID=America/Kentucky/Louisville:20240906T160000
DTSTAMP:20260423T005508
CREATED:20170828T193645Z
LAST-MODIFIED:20170828T193645Z
UID:6150-1725631200-1725638400@visionrussell.org
SUMMARY:Russell Dare to Care Food Pantry
DESCRIPTION:Join Plymouth Settlement House in distributing food to those in need. Food pantry hours are 2:00-4:00 p.m. every Friday. Contact Rev. Greg Wright if you are interested in volunteering\, would like more information or to make a donation. 502-536-3434
URL:https://visionrussell.org/event/russell-dare-care-food-pantry/2024-09-06/
LOCATION:Plymouth Settlement House\, 1626 W. Chestnut St.\, Louisville\, KY\, 40203
GEO:38.2511482;-85.7787874
X-APPLE-STRUCTURED-LOCATION;VALUE=URI;X-ADDRESS=Plymouth Settlement House 1626 W. Chestnut St. Louisville KY 40203;X-APPLE-RADIUS=500;X-TITLE=1626 W. Chestnut St.:geo:-85.7787874,38.2511482
END:VEVENT
BEGIN:VEVENT
DTSTART;TZID=America/Kentucky/Louisville:20240830T140000
DTEND;TZID=America/Kentucky/Louisville:20240830T160000
DTSTAMP:20260423T005508
CREATED:20170828T193645Z
LAST-MODIFIED:20170828T193645Z
UID:6143-1725026400-1725033600@visionrussell.org
SUMMARY:Russell Dare to Care Food Pantry
DESCRIPTION:Join Plymouth Settlement House in distributing food to those in need. Food pantry hours are 2:00-4:00 p.m. every Friday. Contact Rev. Greg Wright if you are interested in volunteering\, would like more information or to make a donation. 502-536-3434
URL:https://visionrussell.org/event/russell-dare-care-food-pantry/2024-08-30/
LOCATION:Plymouth Settlement House\, 1626 W. Chestnut St.\, Louisville\, KY\, 40203
GEO:38.2511482;-85.7787874
X-APPLE-STRUCTURED-LOCATION;VALUE=URI;X-ADDRESS=Plymouth Settlement House 1626 W. Chestnut St. Louisville KY 40203;X-APPLE-RADIUS=500;X-TITLE=1626 W. Chestnut St.:geo:-85.7787874,38.2511482
END:VEVENT
BEGIN:VEVENT
DTSTART;TZID=America/Kentucky/Louisville:20240823T140000
DTEND;TZID=America/Kentucky/Louisville:20240823T160000
DTSTAMP:20260423T005508
CREATED:20170828T193645Z
LAST-MODIFIED:20170828T193645Z
UID:6127-1724421600-1724428800@visionrussell.org
SUMMARY:Russell Dare to Care Food Pantry
DESCRIPTION:Join Plymouth Settlement House in distributing food to those in need. Food pantry hours are 2:00-4:00 p.m. every Friday. Contact Rev. Greg Wright if you are interested in volunteering\, would like more information or to make a donation. 502-536-3434
URL:https://visionrussell.org/event/russell-dare-care-food-pantry/2024-08-23/
LOCATION:Plymouth Settlement House\, 1626 W. Chestnut St.\, Louisville\, KY\, 40203
GEO:38.2511482;-85.7787874
X-APPLE-STRUCTURED-LOCATION;VALUE=URI;X-ADDRESS=Plymouth Settlement House 1626 W. Chestnut St. Louisville KY 40203;X-APPLE-RADIUS=500;X-TITLE=1626 W. Chestnut St.:geo:-85.7787874,38.2511482
END:VEVENT
BEGIN:VEVENT
DTSTART;TZID=America/Kentucky/Louisville:20240816T140000
DTEND;TZID=America/Kentucky/Louisville:20240816T160000
DTSTAMP:20260423T005508
CREATED:20170828T193645Z
LAST-MODIFIED:20170828T193645Z
UID:6122-1723816800-1723824000@visionrussell.org
SUMMARY:Russell Dare to Care Food Pantry
DESCRIPTION:Join Plymouth Settlement House in distributing food to those in need. Food pantry hours are 2:00-4:00 p.m. every Friday. Contact Rev. Greg Wright if you are interested in volunteering\, would like more information or to make a donation. 502-536-3434
URL:https://visionrussell.org/event/russell-dare-care-food-pantry/2024-08-16/
LOCATION:Plymouth Settlement House\, 1626 W. Chestnut St.\, Louisville\, KY\, 40203
GEO:38.2511482;-85.7787874
X-APPLE-STRUCTURED-LOCATION;VALUE=URI;X-ADDRESS=Plymouth Settlement House 1626 W. Chestnut St. Louisville KY 40203;X-APPLE-RADIUS=500;X-TITLE=1626 W. Chestnut St.:geo:-85.7787874,38.2511482
END:VEVENT
BEGIN:VEVENT
DTSTART;TZID=America/Kentucky/Louisville:20240809T140000
DTEND;TZID=America/Kentucky/Louisville:20240809T160000
DTSTAMP:20260423T005508
CREATED:20170828T193645Z
LAST-MODIFIED:20170828T193645Z
UID:6120-1723212000-1723219200@visionrussell.org
SUMMARY:Russell Dare to Care Food Pantry
DESCRIPTION:Join Plymouth Settlement House in distributing food to those in need. Food pantry hours are 2:00-4:00 p.m. every Friday. Contact Rev. Greg Wright if you are interested in volunteering\, would like more information or to make a donation. 502-536-3434
URL:https://visionrussell.org/event/russell-dare-care-food-pantry/2024-08-09/
LOCATION:Plymouth Settlement House\, 1626 W. Chestnut St.\, Louisville\, KY\, 40203
GEO:38.2511482;-85.7787874
X-APPLE-STRUCTURED-LOCATION;VALUE=URI;X-ADDRESS=Plymouth Settlement House 1626 W. Chestnut St. Louisville KY 40203;X-APPLE-RADIUS=500;X-TITLE=1626 W. Chestnut St.:geo:-85.7787874,38.2511482
END:VEVENT
BEGIN:VEVENT
DTSTART;TZID=America/Kentucky/Louisville:20240802T140000
DTEND;TZID=America/Kentucky/Louisville:20240802T160000
DTSTAMP:20260423T005508
CREATED:20170828T193645Z
LAST-MODIFIED:20170828T193645Z
UID:6106-1722607200-1722614400@visionrussell.org
SUMMARY:Russell Dare to Care Food Pantry
DESCRIPTION:Join Plymouth Settlement House in distributing food to those in need. Food pantry hours are 2:00-4:00 p.m. every Friday. Contact Rev. Greg Wright if you are interested in volunteering\, would like more information or to make a donation. 502-536-3434
URL:https://visionrussell.org/event/russell-dare-care-food-pantry/2024-08-02/
LOCATION:Plymouth Settlement House\, 1626 W. Chestnut St.\, Louisville\, KY\, 40203
GEO:38.2511482;-85.7787874
X-APPLE-STRUCTURED-LOCATION;VALUE=URI;X-ADDRESS=Plymouth Settlement House 1626 W. Chestnut St. Louisville KY 40203;X-APPLE-RADIUS=500;X-TITLE=1626 W. Chestnut St.:geo:-85.7787874,38.2511482
END:VEVENT
BEGIN:VEVENT
DTSTART;TZID=America/Kentucky/Louisville:20240726T140000
DTEND;TZID=America/Kentucky/Louisville:20240726T160000
DTSTAMP:20260423T005508
CREATED:20170828T193645Z
LAST-MODIFIED:20170828T193645Z
UID:6099-1722002400-1722009600@visionrussell.org
SUMMARY:Russell Dare to Care Food Pantry
DESCRIPTION:Join Plymouth Settlement House in distributing food to those in need. Food pantry hours are 2:00-4:00 p.m. every Friday. Contact Rev. Greg Wright if you are interested in volunteering\, would like more information or to make a donation. 502-536-3434
URL:https://visionrussell.org/event/russell-dare-care-food-pantry/2024-07-26/
LOCATION:Plymouth Settlement House\, 1626 W. Chestnut St.\, Louisville\, KY\, 40203
GEO:38.2511482;-85.7787874
X-APPLE-STRUCTURED-LOCATION;VALUE=URI;X-ADDRESS=Plymouth Settlement House 1626 W. Chestnut St. Louisville KY 40203;X-APPLE-RADIUS=500;X-TITLE=1626 W. Chestnut St.:geo:-85.7787874,38.2511482
END:VEVENT
BEGIN:VEVENT
DTSTART;TZID=America/Kentucky/Louisville:20240719T140000
DTEND;TZID=America/Kentucky/Louisville:20240719T160000
DTSTAMP:20260423T005508
CREATED:20170828T193645Z
LAST-MODIFIED:20170828T193645Z
UID:6097-1721397600-1721404800@visionrussell.org
SUMMARY:Russell Dare to Care Food Pantry
DESCRIPTION:Join Plymouth Settlement House in distributing food to those in need. Food pantry hours are 2:00-4:00 p.m. every Friday. Contact Rev. Greg Wright if you are interested in volunteering\, would like more information or to make a donation. 502-536-3434
URL:https://visionrussell.org/event/russell-dare-care-food-pantry/2024-07-19/
LOCATION:Plymouth Settlement House\, 1626 W. Chestnut St.\, Louisville\, KY\, 40203
GEO:38.2511482;-85.7787874
X-APPLE-STRUCTURED-LOCATION;VALUE=URI;X-ADDRESS=Plymouth Settlement House 1626 W. Chestnut St. Louisville KY 40203;X-APPLE-RADIUS=500;X-TITLE=1626 W. Chestnut St.:geo:-85.7787874,38.2511482
END:VEVENT
BEGIN:VEVENT
DTSTART;TZID=America/Kentucky/Louisville:20240712T140000
DTEND;TZID=America/Kentucky/Louisville:20240712T160000
DTSTAMP:20260423T005508
CREATED:20170828T193645Z
LAST-MODIFIED:20170828T193645Z
UID:6094-1720792800-1720800000@visionrussell.org
SUMMARY:Russell Dare to Care Food Pantry
DESCRIPTION:Join Plymouth Settlement House in distributing food to those in need. Food pantry hours are 2:00-4:00 p.m. every Friday. Contact Rev. Greg Wright if you are interested in volunteering\, would like more information or to make a donation. 502-536-3434
URL:https://visionrussell.org/event/russell-dare-care-food-pantry/2024-07-12/
LOCATION:Plymouth Settlement House\, 1626 W. Chestnut St.\, Louisville\, KY\, 40203
GEO:38.2511482;-85.7787874
X-APPLE-STRUCTURED-LOCATION;VALUE=URI;X-ADDRESS=Plymouth Settlement House 1626 W. Chestnut St. Louisville KY 40203;X-APPLE-RADIUS=500;X-TITLE=1626 W. Chestnut St.:geo:-85.7787874,38.2511482
END:VEVENT
BEGIN:VEVENT
DTSTART;TZID=America/Kentucky/Louisville:20240705T140000
DTEND;TZID=America/Kentucky/Louisville:20240705T160000
DTSTAMP:20260423T005508
CREATED:20170828T193645Z
LAST-MODIFIED:20170828T193645Z
UID:6072-1720188000-1720195200@visionrussell.org
SUMMARY:Russell Dare to Care Food Pantry
DESCRIPTION:Join Plymouth Settlement House in distributing food to those in need. Food pantry hours are 2:00-4:00 p.m. every Friday. Contact Rev. Greg Wright if you are interested in volunteering\, would like more information or to make a donation. 502-536-3434
URL:https://visionrussell.org/event/russell-dare-care-food-pantry/2024-07-05/
LOCATION:Plymouth Settlement House\, 1626 W. Chestnut St.\, Louisville\, KY\, 40203
GEO:38.2511482;-85.7787874
X-APPLE-STRUCTURED-LOCATION;VALUE=URI;X-ADDRESS=Plymouth Settlement House 1626 W. Chestnut St. Louisville KY 40203;X-APPLE-RADIUS=500;X-TITLE=1626 W. Chestnut St.:geo:-85.7787874,38.2511482
END:VEVENT
BEGIN:VEVENT
DTSTART;TZID=America/Kentucky/Louisville:20240628T140000
DTEND;TZID=America/Kentucky/Louisville:20240628T160000
DTSTAMP:20260423T005508
CREATED:20170828T193645Z
LAST-MODIFIED:20170828T193645Z
UID:6069-1719583200-1719590400@visionrussell.org
SUMMARY:Russell Dare to Care Food Pantry
DESCRIPTION:Join Plymouth Settlement House in distributing food to those in need. Food pantry hours are 2:00-4:00 p.m. every Friday. Contact Rev. Greg Wright if you are interested in volunteering\, would like more information or to make a donation. 502-536-3434
URL:https://visionrussell.org/event/russell-dare-care-food-pantry/2024-06-28/
LOCATION:Plymouth Settlement House\, 1626 W. Chestnut St.\, Louisville\, KY\, 40203
GEO:38.2511482;-85.7787874
X-APPLE-STRUCTURED-LOCATION;VALUE=URI;X-ADDRESS=Plymouth Settlement House 1626 W. Chestnut St. Louisville KY 40203;X-APPLE-RADIUS=500;X-TITLE=1626 W. Chestnut St.:geo:-85.7787874,38.2511482
END:VEVENT
BEGIN:VEVENT
DTSTART;TZID=America/Kentucky/Louisville:20240621T140000
DTEND;TZID=America/Kentucky/Louisville:20240621T160000
DTSTAMP:20260423T005508
CREATED:20170828T193645Z
LAST-MODIFIED:20170828T193645Z
UID:6065-1718978400-1718985600@visionrussell.org
SUMMARY:Russell Dare to Care Food Pantry
DESCRIPTION:Join Plymouth Settlement House in distributing food to those in need. Food pantry hours are 2:00-4:00 p.m. every Friday. Contact Rev. Greg Wright if you are interested in volunteering\, would like more information or to make a donation. 502-536-3434
URL:https://visionrussell.org/event/russell-dare-care-food-pantry/2024-06-21/
LOCATION:Plymouth Settlement House\, 1626 W. Chestnut St.\, Louisville\, KY\, 40203
GEO:38.2511482;-85.7787874
X-APPLE-STRUCTURED-LOCATION;VALUE=URI;X-ADDRESS=Plymouth Settlement House 1626 W. Chestnut St. Louisville KY 40203;X-APPLE-RADIUS=500;X-TITLE=1626 W. Chestnut St.:geo:-85.7787874,38.2511482
END:VEVENT
BEGIN:VEVENT
DTSTART;TZID=America/Kentucky/Louisville:20240614T140000
DTEND;TZID=America/Kentucky/Louisville:20240614T160000
DTSTAMP:20260423T005508
CREATED:20170828T193645Z
LAST-MODIFIED:20170828T193645Z
UID:6061-1718373600-1718380800@visionrussell.org
SUMMARY:Russell Dare to Care Food Pantry
DESCRIPTION:Join Plymouth Settlement House in distributing food to those in need. Food pantry hours are 2:00-4:00 p.m. every Friday. Contact Rev. Greg Wright if you are interested in volunteering\, would like more information or to make a donation. 502-536-3434
URL:https://visionrussell.org/event/russell-dare-care-food-pantry/2024-06-14/
LOCATION:Plymouth Settlement House\, 1626 W. Chestnut St.\, Louisville\, KY\, 40203
GEO:38.2511482;-85.7787874
X-APPLE-STRUCTURED-LOCATION;VALUE=URI;X-ADDRESS=Plymouth Settlement House 1626 W. Chestnut St. Louisville KY 40203;X-APPLE-RADIUS=500;X-TITLE=1626 W. Chestnut St.:geo:-85.7787874,38.2511482
END:VEVENT
BEGIN:VEVENT
DTSTART;TZID=America/Kentucky/Louisville:20240607T140000
DTEND;TZID=America/Kentucky/Louisville:20240607T160000
DTSTAMP:20260423T005508
CREATED:20170828T193645Z
LAST-MODIFIED:20170828T193645Z
UID:6057-1717768800-1717776000@visionrussell.org
SUMMARY:Russell Dare to Care Food Pantry
DESCRIPTION:Join Plymouth Settlement House in distributing food to those in need. Food pantry hours are 2:00-4:00 p.m. every Friday. Contact Rev. Greg Wright if you are interested in volunteering\, would like more information or to make a donation. 502-536-3434
URL:https://visionrussell.org/event/russell-dare-care-food-pantry/2024-06-07/
LOCATION:Plymouth Settlement House\, 1626 W. Chestnut St.\, Louisville\, KY\, 40203
GEO:38.2511482;-85.7787874
X-APPLE-STRUCTURED-LOCATION;VALUE=URI;X-ADDRESS=Plymouth Settlement House 1626 W. Chestnut St. Louisville KY 40203;X-APPLE-RADIUS=500;X-TITLE=1626 W. Chestnut St.:geo:-85.7787874,38.2511482
END:VEVENT
BEGIN:VEVENT
DTSTART;TZID=America/Kentucky/Louisville:20240531T140000
DTEND;TZID=America/Kentucky/Louisville:20240531T160000
DTSTAMP:20260423T005508
CREATED:20170828T193645Z
LAST-MODIFIED:20170828T193645Z
UID:6054-1717164000-1717171200@visionrussell.org
SUMMARY:Russell Dare to Care Food Pantry
DESCRIPTION:Join Plymouth Settlement House in distributing food to those in need. Food pantry hours are 2:00-4:00 p.m. every Friday. Contact Rev. Greg Wright if you are interested in volunteering\, would like more information or to make a donation. 502-536-3434
URL:https://visionrussell.org/event/russell-dare-care-food-pantry/2024-05-31/
LOCATION:Plymouth Settlement House\, 1626 W. Chestnut St.\, Louisville\, KY\, 40203
GEO:38.2511482;-85.7787874
X-APPLE-STRUCTURED-LOCATION;VALUE=URI;X-ADDRESS=Plymouth Settlement House 1626 W. Chestnut St. Louisville KY 40203;X-APPLE-RADIUS=500;X-TITLE=1626 W. Chestnut St.:geo:-85.7787874,38.2511482
END:VEVENT
BEGIN:VEVENT
DTSTART;TZID=America/Kentucky/Louisville:20240524T140000
DTEND;TZID=America/Kentucky/Louisville:20240524T160000
DTSTAMP:20260423T005508
CREATED:20170828T193645Z
LAST-MODIFIED:20170828T193645Z
UID:6052-1716559200-1716566400@visionrussell.org
SUMMARY:Russell Dare to Care Food Pantry
DESCRIPTION:Join Plymouth Settlement House in distributing food to those in need. Food pantry hours are 2:00-4:00 p.m. every Friday. Contact Rev. Greg Wright if you are interested in volunteering\, would like more information or to make a donation. 502-536-3434
URL:https://visionrussell.org/event/russell-dare-care-food-pantry/2024-05-24/
LOCATION:Plymouth Settlement House\, 1626 W. Chestnut St.\, Louisville\, KY\, 40203
GEO:38.2511482;-85.7787874
X-APPLE-STRUCTURED-LOCATION;VALUE=URI;X-ADDRESS=Plymouth Settlement House 1626 W. Chestnut St. Louisville KY 40203;X-APPLE-RADIUS=500;X-TITLE=1626 W. Chestnut St.:geo:-85.7787874,38.2511482
END:VEVENT
BEGIN:VEVENT
DTSTART;TZID=America/Kentucky/Louisville:20240517T140000
DTEND;TZID=America/Kentucky/Louisville:20240517T160000
DTSTAMP:20260423T005508
CREATED:20170828T193645Z
LAST-MODIFIED:20170828T193645Z
UID:6050-1715954400-1715961600@visionrussell.org
SUMMARY:Russell Dare to Care Food Pantry
DESCRIPTION:Join Plymouth Settlement House in distributing food to those in need. Food pantry hours are 2:00-4:00 p.m. every Friday. Contact Rev. Greg Wright if you are interested in volunteering\, would like more information or to make a donation. 502-536-3434
URL:https://visionrussell.org/event/russell-dare-care-food-pantry/2024-05-17/
LOCATION:Plymouth Settlement House\, 1626 W. Chestnut St.\, Louisville\, KY\, 40203
GEO:38.2511482;-85.7787874
X-APPLE-STRUCTURED-LOCATION;VALUE=URI;X-ADDRESS=Plymouth Settlement House 1626 W. Chestnut St. Louisville KY 40203;X-APPLE-RADIUS=500;X-TITLE=1626 W. Chestnut St.:geo:-85.7787874,38.2511482
END:VEVENT
BEGIN:VEVENT
DTSTART;TZID=America/Kentucky/Louisville:20240510T140000
DTEND;TZID=America/Kentucky/Louisville:20240510T160000
DTSTAMP:20260423T005508
CREATED:20170828T193645Z
LAST-MODIFIED:20170828T193645Z
UID:6047-1715349600-1715356800@visionrussell.org
SUMMARY:Russell Dare to Care Food Pantry
DESCRIPTION:Join Plymouth Settlement House in distributing food to those in need. Food pantry hours are 2:00-4:00 p.m. every Friday. Contact Rev. Greg Wright if you are interested in volunteering\, would like more information or to make a donation. 502-536-3434
URL:https://visionrussell.org/event/russell-dare-care-food-pantry/2024-05-10/
LOCATION:Plymouth Settlement House\, 1626 W. Chestnut St.\, Louisville\, KY\, 40203
GEO:38.2511482;-85.7787874
X-APPLE-STRUCTURED-LOCATION;VALUE=URI;X-ADDRESS=Plymouth Settlement House 1626 W. Chestnut St. Louisville KY 40203;X-APPLE-RADIUS=500;X-TITLE=1626 W. Chestnut St.:geo:-85.7787874,38.2511482
END:VEVENT
BEGIN:VEVENT
DTSTART;TZID=America/Kentucky/Louisville:20240503T140000
DTEND;TZID=America/Kentucky/Louisville:20240503T160000
DTSTAMP:20260423T005508
CREATED:20170828T193645Z
LAST-MODIFIED:20170828T193645Z
UID:6042-1714744800-1714752000@visionrussell.org
SUMMARY:Russell Dare to Care Food Pantry
DESCRIPTION:Join Plymouth Settlement House in distributing food to those in need. Food pantry hours are 2:00-4:00 p.m. every Friday. Contact Rev. Greg Wright if you are interested in volunteering\, would like more information or to make a donation. 502-536-3434
URL:https://visionrussell.org/event/russell-dare-care-food-pantry/2024-05-03/
LOCATION:Plymouth Settlement House\, 1626 W. Chestnut St.\, Louisville\, KY\, 40203
GEO:38.2511482;-85.7787874
X-APPLE-STRUCTURED-LOCATION;VALUE=URI;X-ADDRESS=Plymouth Settlement House 1626 W. Chestnut St. Louisville KY 40203;X-APPLE-RADIUS=500;X-TITLE=1626 W. Chestnut St.:geo:-85.7787874,38.2511482
END:VEVENT
BEGIN:VEVENT
DTSTART;TZID=America/Kentucky/Louisville:20240426T140000
DTEND;TZID=America/Kentucky/Louisville:20240426T160000
DTSTAMP:20260423T005508
CREATED:20170828T193645Z
LAST-MODIFIED:20170828T193645Z
UID:6040-1714140000-1714147200@visionrussell.org
SUMMARY:Russell Dare to Care Food Pantry
DESCRIPTION:Join Plymouth Settlement House in distributing food to those in need. Food pantry hours are 2:00-4:00 p.m. every Friday. Contact Rev. Greg Wright if you are interested in volunteering\, would like more information or to make a donation. 502-536-3434
URL:https://visionrussell.org/event/russell-dare-care-food-pantry/2024-04-26/
LOCATION:Plymouth Settlement House\, 1626 W. Chestnut St.\, Louisville\, KY\, 40203
GEO:38.2511482;-85.7787874
X-APPLE-STRUCTURED-LOCATION;VALUE=URI;X-ADDRESS=Plymouth Settlement House 1626 W. Chestnut St. Louisville KY 40203;X-APPLE-RADIUS=500;X-TITLE=1626 W. Chestnut St.:geo:-85.7787874,38.2511482
END:VEVENT
BEGIN:VEVENT
DTSTART;TZID=America/Kentucky/Louisville:20220320T180000
DTEND;TZID=America/Kentucky/Louisville:20220320T193000
DTSTAMP:20260423T005508
CREATED:20220310T180905Z
LAST-MODIFIED:20220310T181202Z
UID:5993-1647799200-1647804600@visionrussell.org
SUMMARY:Urban Strategies Inc. - Community Meeting
DESCRIPTION:Urban Strategies Community Meeting
URL:https://visionrussell.org/event/community-meeting/
LOCATION:Beecher Terrace Community Room\, 980 West Liberty Street\, Louisville\, KY\, 40203\, United States
END:VEVENT
BEGIN:VEVENT
DTSTART;TZID=America/Kentucky/Louisville:20210918T100000
DTEND;TZID=America/Kentucky/Louisville:20210918T140000
DTSTAMP:20260423T005508
CREATED:20210914T205003Z
LAST-MODIFIED:20210914T211334Z
UID:5857-1631959200-1631973600@visionrussell.org
SUMMARY:Archaeology Day and West of Ninth Community Opening
DESCRIPTION:
URL:https://visionrussell.org/event/archaeology-day/
LOCATION:Frazier History Musuem\, 829 W. Main Street\, Louisville\, KY\, 40202\, United States
END:VEVENT
BEGIN:VEVENT
DTSTART;TZID=America/Kentucky/Louisville:20201203T080000
DTEND;TZID=America/Kentucky/Louisville:20201203T170000
DTSTAMP:20260423T005508
CREATED:20190823T190616Z
LAST-MODIFIED:20190823T190616Z
UID:3912-1606982400-1607014800@visionrussell.org
SUMMARY:Consulting Parties Quarterly Meeting
DESCRIPTION:Come out and attend this meeting to learn more about the development on the historic community of Beecher Terrace and the Russell Neighborhood.
URL:https://visionrussell.org/event/consulting-parties-quarterly-meeting/
LOCATION:Metro Development Center Conference Room 101 located at 444 S. 5th St.\, Louisville\, KY 40202
END:VEVENT
BEGIN:VEVENT
DTSTART;TZID=America/Kentucky/Louisville:20200903T180000
DTEND;TZID=America/Kentucky/Louisville:20200903T200000
DTSTAMP:20260423T005508
CREATED:20190823T190758Z
LAST-MODIFIED:20190823T191155Z
UID:3910-1599156000-1599163200@visionrussell.org
SUMMARY:Consulting Parties Quarterly Meeting
DESCRIPTION:Come out and attend this meeting to learn more about the development on the historic community of Beecher Terrace and the Russell Neighborhood.
URL:https://visionrussell.org/event/consulting-parties-quarterly-meetings/
LOCATION:Metro Development Center Conference Room 101 located at 444 S. 5th St.\, Louisville\, KY 40202
END:VEVENT
BEGIN:VEVENT
DTSTART;TZID=America/Kentucky/Louisville:20200604T180000
DTEND;TZID=America/Kentucky/Louisville:20200604T200000
DTSTAMP:20260423T005508
CREATED:20190823T190130Z
LAST-MODIFIED:20190823T190847Z
UID:3908-1591293600-1591300800@visionrussell.org
SUMMARY:Consulting Parties Quarterly Meeting
DESCRIPTION:Come out and attend this meeting to learn more about the development on the historic community of Beecher Terrace and the Russell Neighborhood.
URL:https://visionrussell.org/event/consulting-parties-meeting-4/
LOCATION:Metro Development Center Conference Room 101 located at 444 S. 5th St.\, Louisville\, KY 40202
END:VEVENT
BEGIN:VEVENT
DTSTART;TZID=America/Kentucky/Louisville:20200414T200000
DTEND;TZID=America/Kentucky/Louisville:20200414T213000
DTSTAMP:20260423T005508
CREATED:20200401T164134Z
LAST-MODIFIED:20200407T170945Z
UID:4614-1586894400-1586899800@visionrussell.org
SUMMARY:Beecher Terrace Resident Reoccupancy Virtual Meeting
DESCRIPTION:There will be a Virtual Resident Meeting to address the Reoccupancy process (details below). During this virtual meeting\, Louisville Metro Housing Authority (LMHA) and McCormack Baron Management (MBM) staff will review eligibility criteria\, waiting list process\, properties coming on-line in 2020\, and answer questions. Participants may access the meeting via internet and/or telephone. Video of the meeting will also be posted on the Vision Russell website at www.visionrussell.org for viewing afterwards\, along with a “Frequently Asked Questions” document listing questions / answers from the meeting. \nZOOM Virtual meeting link:  https://zoom.us/j/762356000\nMeeting ID: 762 356 000\nCall-in: +1 312 626 6799 \nYou will need to download the Zoom app to your phone or computer.
URL:https://visionrussell.org/event/beecher-terrace-resident-reoccupancy-virtual-meeting/
LOCATION:KY
END:VEVENT
BEGIN:VEVENT
DTSTART;TZID=America/Kentucky/Louisville:20200320T200000
DTEND;TZID=America/Kentucky/Louisville:20200320T213000
DTSTAMP:20260423T005508
CREATED:20200226T205059Z
LAST-MODIFIED:20200318T163128Z
UID:4401-1584734400-1584739800@visionrussell.org
SUMMARY:C.A.T.S Children About the Stage & Art Show (Postponed)
DESCRIPTION:Come enjoy performances from LCCC’s Kids Art Academy Tiny Tykes and Youth Repertory Troupes.  This concert recital will showcase the pride of LCCC getting in touch with their Triple Threat; acting\, singing\, and dancing\, complete with a side of piano and original art created by the youth. To get tickets for the event CLICK HERE \n 
URL:https://visionrussell.org/event/c-a-t-s-children-about-the-stage-art-show/
LOCATION:Central High School\, 1130 W. Chestnut Street\, Louisville\, KY\, 40203
GEO:38.2494686;-85.7704116
X-APPLE-STRUCTURED-LOCATION;VALUE=URI;X-ADDRESS=Central High School 1130 W. Chestnut Street Louisville KY 40203;X-APPLE-RADIUS=500;X-TITLE=1130 W. Chestnut Street:geo:-85.7704116,38.2494686
END:VEVENT
END:VCALENDAR