BEGIN:VCALENDAR
VERSION:2.0
PRODID:-//Vision Russell - ECPv6.15.18//NONSGML v1.0//EN
CALSCALE:GREGORIAN
METHOD:PUBLISH
X-WR-CALNAME:Vision Russell
X-ORIGINAL-URL:https://visionrussell.org
X-WR-CALDESC:Events for Vision Russell
REFRESH-INTERVAL;VALUE=DURATION:PT1H
X-Robots-Tag:noindex
X-PUBLISHED-TTL:PT1H
BEGIN:VTIMEZONE
TZID:America/Kentucky/Louisville
BEGIN:DAYLIGHT
TZOFFSETFROM:-0500
TZOFFSETTO:-0400
TZNAME:EDT
DTSTART:20240310T070000
END:DAYLIGHT
BEGIN:STANDARD
TZOFFSETFROM:-0400
TZOFFSETTO:-0500
TZNAME:EST
DTSTART:20241103T060000
END:STANDARD
BEGIN:DAYLIGHT
TZOFFSETFROM:-0500
TZOFFSETTO:-0400
TZNAME:EDT
DTSTART:20250309T070000
END:DAYLIGHT
BEGIN:STANDARD
TZOFFSETFROM:-0400
TZOFFSETTO:-0500
TZNAME:EST
DTSTART:20251102T060000
END:STANDARD
BEGIN:DAYLIGHT
TZOFFSETFROM:-0500
TZOFFSETTO:-0400
TZNAME:EDT
DTSTART:20260308T070000
END:DAYLIGHT
BEGIN:STANDARD
TZOFFSETFROM:-0400
TZOFFSETTO:-0500
TZNAME:EST
DTSTART:20261101T060000
END:STANDARD
END:VTIMEZONE
BEGIN:VEVENT
DTSTART;TZID=America/Kentucky/Louisville:20250905T140000
DTEND;TZID=America/Kentucky/Louisville:20250905T160000
DTSTAMP:20260422T200424
CREATED:20170828T193645Z
LAST-MODIFIED:20170828T193645Z
UID:6674-1757080800-1757088000@visionrussell.org
SUMMARY:Russell Dare to Care Food Pantry
DESCRIPTION:Join Plymouth Settlement House in distributing food to those in need. Food pantry hours are 2:00-4:00 p.m. every Friday. Contact Rev. Greg Wright if you are interested in volunteering\, would like more information or to make a donation. 502-536-3434
URL:https://visionrussell.org/event/russell-dare-care-food-pantry/2025-09-05/
LOCATION:Plymouth Settlement House\, 1626 W. Chestnut St.\, Louisville\, KY\, 40203
GEO:38.2511482;-85.7787874
X-APPLE-STRUCTURED-LOCATION;VALUE=URI;X-ADDRESS=Plymouth Settlement House 1626 W. Chestnut St. Louisville KY 40203;X-APPLE-RADIUS=500;X-TITLE=1626 W. Chestnut St.:geo:-85.7787874,38.2511482
END:VEVENT
BEGIN:VEVENT
DTSTART;TZID=America/Kentucky/Louisville:20250912T140000
DTEND;TZID=America/Kentucky/Louisville:20250912T160000
DTSTAMP:20260422T200424
CREATED:20170828T193645Z
LAST-MODIFIED:20170828T193645Z
UID:6675-1757685600-1757692800@visionrussell.org
SUMMARY:Russell Dare to Care Food Pantry
DESCRIPTION:Join Plymouth Settlement House in distributing food to those in need. Food pantry hours are 2:00-4:00 p.m. every Friday. Contact Rev. Greg Wright if you are interested in volunteering\, would like more information or to make a donation. 502-536-3434
URL:https://visionrussell.org/event/russell-dare-care-food-pantry/2025-09-12/
LOCATION:Plymouth Settlement House\, 1626 W. Chestnut St.\, Louisville\, KY\, 40203
GEO:38.2511482;-85.7787874
X-APPLE-STRUCTURED-LOCATION;VALUE=URI;X-ADDRESS=Plymouth Settlement House 1626 W. Chestnut St. Louisville KY 40203;X-APPLE-RADIUS=500;X-TITLE=1626 W. Chestnut St.:geo:-85.7787874,38.2511482
END:VEVENT
BEGIN:VEVENT
DTSTART;TZID=America/Kentucky/Louisville:20250919T140000
DTEND;TZID=America/Kentucky/Louisville:20250919T160000
DTSTAMP:20260422T200424
CREATED:20170828T193645Z
LAST-MODIFIED:20170828T193645Z
UID:6676-1758290400-1758297600@visionrussell.org
SUMMARY:Russell Dare to Care Food Pantry
DESCRIPTION:Join Plymouth Settlement House in distributing food to those in need. Food pantry hours are 2:00-4:00 p.m. every Friday. Contact Rev. Greg Wright if you are interested in volunteering\, would like more information or to make a donation. 502-536-3434
URL:https://visionrussell.org/event/russell-dare-care-food-pantry/2025-09-19/
LOCATION:Plymouth Settlement House\, 1626 W. Chestnut St.\, Louisville\, KY\, 40203
GEO:38.2511482;-85.7787874
X-APPLE-STRUCTURED-LOCATION;VALUE=URI;X-ADDRESS=Plymouth Settlement House 1626 W. Chestnut St. Louisville KY 40203;X-APPLE-RADIUS=500;X-TITLE=1626 W. Chestnut St.:geo:-85.7787874,38.2511482
END:VEVENT
BEGIN:VEVENT
DTSTART;TZID=America/Kentucky/Louisville:20250926T140000
DTEND;TZID=America/Kentucky/Louisville:20250926T160000
DTSTAMP:20260422T200424
CREATED:20170828T193645Z
LAST-MODIFIED:20170828T193645Z
UID:6677-1758895200-1758902400@visionrussell.org
SUMMARY:Russell Dare to Care Food Pantry
DESCRIPTION:Join Plymouth Settlement House in distributing food to those in need. Food pantry hours are 2:00-4:00 p.m. every Friday. Contact Rev. Greg Wright if you are interested in volunteering\, would like more information or to make a donation. 502-536-3434
URL:https://visionrussell.org/event/russell-dare-care-food-pantry/2025-09-26/
LOCATION:Plymouth Settlement House\, 1626 W. Chestnut St.\, Louisville\, KY\, 40203
GEO:38.2511482;-85.7787874
X-APPLE-STRUCTURED-LOCATION;VALUE=URI;X-ADDRESS=Plymouth Settlement House 1626 W. Chestnut St. Louisville KY 40203;X-APPLE-RADIUS=500;X-TITLE=1626 W. Chestnut St.:geo:-85.7787874,38.2511482
END:VEVENT
END:VCALENDAR