BEGIN:VCALENDAR
VERSION:2.0
PRODID:-//Vision Russell - ECPv6.15.18//NONSGML v1.0//EN
CALSCALE:GREGORIAN
METHOD:PUBLISH
X-ORIGINAL-URL:https://visionrussell.org
X-WR-CALDESC:Events for Vision Russell
REFRESH-INTERVAL;VALUE=DURATION:PT1H
X-Robots-Tag:noindex
X-PUBLISHED-TTL:PT1H
BEGIN:VTIMEZONE
TZID:America/Kentucky/Louisville
BEGIN:DAYLIGHT
TZOFFSETFROM:-0500
TZOFFSETTO:-0400
TZNAME:EDT
DTSTART:20240310T070000
END:DAYLIGHT
BEGIN:STANDARD
TZOFFSETFROM:-0400
TZOFFSETTO:-0500
TZNAME:EST
DTSTART:20241103T060000
END:STANDARD
BEGIN:DAYLIGHT
TZOFFSETFROM:-0500
TZOFFSETTO:-0400
TZNAME:EDT
DTSTART:20250309T070000
END:DAYLIGHT
BEGIN:STANDARD
TZOFFSETFROM:-0400
TZOFFSETTO:-0500
TZNAME:EST
DTSTART:20251102T060000
END:STANDARD
BEGIN:DAYLIGHT
TZOFFSETFROM:-0500
TZOFFSETTO:-0400
TZNAME:EDT
DTSTART:20260308T070000
END:DAYLIGHT
BEGIN:STANDARD
TZOFFSETFROM:-0400
TZOFFSETTO:-0500
TZNAME:EST
DTSTART:20261101T060000
END:STANDARD
END:VTIMEZONE
BEGIN:VEVENT
DTSTART;TZID=America/Kentucky/Louisville:20251003T140000
DTEND;TZID=America/Kentucky/Louisville:20251003T160000
DTSTAMP:20260422T183535
CREATED:20170828T193645Z
LAST-MODIFIED:20170828T193645Z
UID:6678-1759500000-1759507200@visionrussell.org
SUMMARY:Russell Dare to Care Food Pantry
DESCRIPTION:Join Plymouth Settlement House in distributing food to those in need. Food pantry hours are 2:00-4:00 p.m. every Friday. Contact Rev. Greg Wright if you are interested in volunteering\, would like more information or to make a donation. 502-536-3434
URL:https://visionrussell.org/event/russell-dare-care-food-pantry/2025-10-03/
LOCATION:Plymouth Settlement House\, 1626 W. Chestnut St.\, Louisville\, KY\, 40203
GEO:38.2511482;-85.7787874
X-APPLE-STRUCTURED-LOCATION;VALUE=URI;X-ADDRESS=Plymouth Settlement House 1626 W. Chestnut St. Louisville KY 40203;X-APPLE-RADIUS=500;X-TITLE=1626 W. Chestnut St.:geo:-85.7787874,38.2511482
END:VEVENT
BEGIN:VEVENT
DTSTART;TZID=America/Kentucky/Louisville:20251010T140000
DTEND;TZID=America/Kentucky/Louisville:20251010T160000
DTSTAMP:20260422T183535
CREATED:20170828T193645Z
LAST-MODIFIED:20170828T193645Z
UID:6679-1760104800-1760112000@visionrussell.org
SUMMARY:Russell Dare to Care Food Pantry
DESCRIPTION:Join Plymouth Settlement House in distributing food to those in need. Food pantry hours are 2:00-4:00 p.m. every Friday. Contact Rev. Greg Wright if you are interested in volunteering\, would like more information or to make a donation. 502-536-3434
URL:https://visionrussell.org/event/russell-dare-care-food-pantry/2025-10-10/
LOCATION:Plymouth Settlement House\, 1626 W. Chestnut St.\, Louisville\, KY\, 40203
GEO:38.2511482;-85.7787874
X-APPLE-STRUCTURED-LOCATION;VALUE=URI;X-ADDRESS=Plymouth Settlement House 1626 W. Chestnut St. Louisville KY 40203;X-APPLE-RADIUS=500;X-TITLE=1626 W. Chestnut St.:geo:-85.7787874,38.2511482
END:VEVENT
BEGIN:VEVENT
DTSTART;TZID=America/Kentucky/Louisville:20251017T140000
DTEND;TZID=America/Kentucky/Louisville:20251017T160000
DTSTAMP:20260422T183535
CREATED:20170828T193645Z
LAST-MODIFIED:20170828T193645Z
UID:6680-1760709600-1760716800@visionrussell.org
SUMMARY:Russell Dare to Care Food Pantry
DESCRIPTION:Join Plymouth Settlement House in distributing food to those in need. Food pantry hours are 2:00-4:00 p.m. every Friday. Contact Rev. Greg Wright if you are interested in volunteering\, would like more information or to make a donation. 502-536-3434
URL:https://visionrussell.org/event/russell-dare-care-food-pantry/2025-10-17/
LOCATION:Plymouth Settlement House\, 1626 W. Chestnut St.\, Louisville\, KY\, 40203
GEO:38.2511482;-85.7787874
X-APPLE-STRUCTURED-LOCATION;VALUE=URI;X-ADDRESS=Plymouth Settlement House 1626 W. Chestnut St. Louisville KY 40203;X-APPLE-RADIUS=500;X-TITLE=1626 W. Chestnut St.:geo:-85.7787874,38.2511482
END:VEVENT
BEGIN:VEVENT
DTSTART;TZID=America/Kentucky/Louisville:20251024T140000
DTEND;TZID=America/Kentucky/Louisville:20251024T160000
DTSTAMP:20260422T183535
CREATED:20170828T193645Z
LAST-MODIFIED:20170828T193645Z
UID:6681-1761314400-1761321600@visionrussell.org
SUMMARY:Russell Dare to Care Food Pantry
DESCRIPTION:Join Plymouth Settlement House in distributing food to those in need. Food pantry hours are 2:00-4:00 p.m. every Friday. Contact Rev. Greg Wright if you are interested in volunteering\, would like more information or to make a donation. 502-536-3434
URL:https://visionrussell.org/event/russell-dare-care-food-pantry/2025-10-24/
LOCATION:Plymouth Settlement House\, 1626 W. Chestnut St.\, Louisville\, KY\, 40203
GEO:38.2511482;-85.7787874
X-APPLE-STRUCTURED-LOCATION;VALUE=URI;X-ADDRESS=Plymouth Settlement House 1626 W. Chestnut St. Louisville KY 40203;X-APPLE-RADIUS=500;X-TITLE=1626 W. Chestnut St.:geo:-85.7787874,38.2511482
END:VEVENT
BEGIN:VEVENT
DTSTART;TZID=America/Kentucky/Louisville:20251031T140000
DTEND;TZID=America/Kentucky/Louisville:20251031T160000
DTSTAMP:20260422T183535
CREATED:20170828T193645Z
LAST-MODIFIED:20170828T193645Z
UID:6682-1761919200-1761926400@visionrussell.org
SUMMARY:Russell Dare to Care Food Pantry
DESCRIPTION:Join Plymouth Settlement House in distributing food to those in need. Food pantry hours are 2:00-4:00 p.m. every Friday. Contact Rev. Greg Wright if you are interested in volunteering\, would like more information or to make a donation. 502-536-3434
URL:https://visionrussell.org/event/russell-dare-care-food-pantry/2025-10-31/
LOCATION:Plymouth Settlement House\, 1626 W. Chestnut St.\, Louisville\, KY\, 40203
GEO:38.2511482;-85.7787874
X-APPLE-STRUCTURED-LOCATION;VALUE=URI;X-ADDRESS=Plymouth Settlement House 1626 W. Chestnut St. Louisville KY 40203;X-APPLE-RADIUS=500;X-TITLE=1626 W. Chestnut St.:geo:-85.7787874,38.2511482
END:VEVENT
END:VCALENDAR